Workbook

Sheet Основа
A2: ПЕРЕЧЕНЬ
A3: аналитических индикаторов и их предельно допустимых значений, характеризующих состояние республиканского бюджета Чувашской Республики и государственного долга Чувашской Республики за первое полугодие 2026 г.
A5: Индикаторы | B5: Плановые назначения (тыс. рублей) | C5: Исполнено за I полугодие 2026 г. (тыс. рублей) | D5: % исполнения | E5: Предельно допустимые значения
A6: 1 | B6: 2 | C6: 3 | D6: 4 | E6: 5
A7: Доходы республиканского бюджета Чувашской Республики, всего | B7: 1.1859009e+08 | C7: 73667219 | D7: =IFERROR(C7/B7,0) -> 0.62119206
A8: в том числе:
A9: Налоговые и неналоговые доходы, всего | B9: 78433559 | C9: 54919287 | D9: =IFERROR(C9/B9,0) -> 0.70020139 | E9: х
A10: в том числе:
A11: налог на прибыль организаций | B11: 24984460 | C11: 28619556 | D11: =IFERROR(C11/B11,0) -> 1.1454943 | E11: х
A12: налог на доходы физических лиц | B12: 24729159 | C12: 9817604.1 | D12: =IFERROR(C12/B12,0) -> 0.39700518 | E12: х
A13: налоги на товары (работы, услуги), реализуемые на территории Российской Федерации | B13: 8431405.3 | C13: 3524058.4 | D13: =IFERROR(C13/B13,0) -> 0.41796809 | E13: х
A14: налоги на совокупный доход | B14: 6943552 | C14: 4305446.4 | D14: =IFERROR(C14/B14,0) -> 0.62006397 | E14: х
A15: налоги на имущество | B15: 4825824 | C15: 1952641.4 | D15: =IFERROR(C15/B15,0) -> 0.40462342 | E15: х
A16: налоги, сборы и регулярные платежи за пользование природными ресурсами | B16: 0 | C16: 0 | D16: х | E16: х
A17: государственная пошлина | B17: 174314.3 | C17: 118025.8 | D17: =IFERROR(C17/B17,0) -> 0.67708616 | E17: х
A18: задолженность и перерасчеты по отмененным налогам, сборам и иным обязательным платежам | B18: 0 | C18: 0 | D18: х | E18: х
A19: доходы от использования имущества, находящегося в государственной и муниципальной собственности | B19: 5867264.3 | C19: 5324325.3 | D19: =IFERROR(C19/B19,0) -> 0.90746301 | E19: х
A20: платежи при пользовании природными ресурсами | B20: 159920.3 | C20: 124009.4 | D20: =IFERROR(C20/B20,0) -> 0.77544502 | E20: х
A21: доходы от оказания платных услуг и компенсации затрат государства | B21: 307552.1 | C21: 142156.2 | D21: =IFERROR(C21/B21,0) -> 0.46221827 | E21: х
A22: доходы от продажи материальных и нематериальных активов | B22: 254664 | C22: 130285.3 | D22: =IFERROR(C22/B22,0) -> 0.51159685 | E22: х
A23: административные платежи и сборы | B23: 10 | C23: 0 | D23: =IFERROR(C23/B23,0) -> 0 | E23: х
A24: штрафы, санкции, возмещение ущерба | B24: 1755433.6 | C24: 859937.9 | D24: =IFERROR(C24/B24,0) -> 0.48987207 | E24: х
A25: прочие неналоговые доходы | B25: 0 | C25: 1241.5 | D25: х | E25: х
A27: Безвозмездные поступления, всего | B27: 40156527 | C27: 18747932 | D27: =IFERROR(C27/B27,0) -> 0.46687135 | E27: х
A28: в том числе:
A29: дотации на выравнивание бюджетной обеспеченности | B29: 18598461 | C29: 10144615 | D29: =IFERROR(C29/B29,0) -> 0.54545454 | E29: х
A30: дотации на поддержку мер по обеспечению сбалансированности бюджетов | B30: 0 | C30: 0 | D30: =IFERROR(C30/B30,0) -> 0 | E30: х
A32: Расходы республиканского бюджета Чувашской Республики, всего | B32: 1.371498e+08 | C32: 56269044 | D32: =IFERROR(C32/B32,0) -> 0.41027434
A33: в том числе:
A34: Общегосударственные вопросы | B34: 7649024.9 | C34: 1357142.5 | D34: =IFERROR(C34/B34,0) -> 0.17742686 | E34: х
A35: Национальная оборона | B35: 53877.5 | C35: 24583.778 | D35: =IFERROR(C35/B35,0) -> 0.45629024 | E35: х
A36: Национальная безопасность и правоохранительная деятельность | B36: 1595611.9 | C36: 715217.97 | D36: =IFERROR(C36/B36,0) -> 0.44824057 | E36: х
A37: Национальная экономика, всего | B37: 24111326 | C37: 7562397.4 | D37: =IFERROR(C37/B37,0) -> 0.31364503 | E37: х
A38: из них:
A39: сельское хозяйство и рыболовство | B39: 4593113.2 | C39: 1727531.6 | D39: =IFERROR(C39/B39,0) -> 0.37611343 | E39: х
A40: лесное хозяйство | B40: 462866.18 | C40: 138636.98 | D40: =IFERROR(C40/B40,0) -> 0.29951849
A41: транспорт | B41: 2300536.1 | C41: 629947.68 | D41: =IFERROR(C41/B41,0) -> 0.27382647 | E41: х
A42: дорожное хозяйство (дорожные фонды) | B42: 11753598 | C42: 3569476.3 | D42: =IFERROR(C42/B42,0) -> 0.30369222 | E42: х
A43: Жилищно-коммунальное хозяйство | B43: 7498978 | C43: 1419263.2 | D43: =IFERROR(C43/B43,0) -> 0.18926088 | E43: х
A44: Охрана окружающей среды | B44: 976810.61 | C44: 658385.32 | D44: =IFERROR(C44/B44,0) -> 0.67401533 | E44: х
...

Sheet Госдолг
A1: Индикаторы | B1: Плановые назначения (тыс. рублей) | C1: Исполнено за II квартал 2026 г. (тыс. рублей)
A2: Государственный долг Чувашской Республики, всего, (План из Закона - верхний предел на 01.01 следующего года, исполнение из долговой книги) | B2: 13159160 | C2: 10545550
A3: Государственные гарантии Чувашской Республики | B3: 3371199.7 | C3: 3556072.1
A4: Доля расходов на обслуживание внутренних долговых обязательств в общей сумме расходов бюджета, за исключением объема расходов, которые осуществляются за счет субвенций, предоставляемых из бюджетов бюджетной системы Российской Федерации, %
A5: ОБСЛУЖИВАНИЕ ГОСУДАРСТВЕННОГО (МУНИЦИПАЛЬНОГО) ДОЛГА (РЗ 1300) | B5: 197870.8 | C5: 0
A6: Субвенции бюджетам бюджетной системы Российской Федерации | B6: 2142886.5 | C6: 1090594.4
A7: Фактически понесенные за год расходов по исполнению гарантийных случаев по условным обязательствам в объеме расходов бюджета, %* | B7: 337726.7 | C7: 0
A8: Сумма выданных за год бюджетных кредитов в общем объеме расходов бюджета (Статья 12. Предоставление бюджетных кредитов местным бюджетам из республиканского бюджета Чувашской Республики) | B8: 902000 | C8: 0
A9: Источники финансирования дефицита, всего | B9: 18559713 | C9: -17398175
