Workbook

Sheet ИБР 2020 
C1: Расчет индекса бюджетных расходов (ИБР) на 2020 год
A3: № п/п | B3: Муниципальные районы городские округа | C3: Численность населения на 01.01.2019 Пj | D3: Коэффициент масштаба, Км | E3: SUMj(ПijxKnij) | F3: ИБР омсу | G3: Дети в возрасте от 1-6 лет | H3: Коэффициент дисперсности расселения, Кдисп | I3: Коэффициент стоимости предоставления коммунальных услуг, Кку | J3: Коэффициент уровня урбанизации, Курб | K3: SUMj(ПijxKnij) | L3: ИБРдоу | M3: Дети в возрасте от 7 до 17 лет | N3: Коэффициент дисперсности расселения, Кдисп | O3: Коэффициент стоимости предоставления коммунальных услуг, Кку | P3: Коэффициент уровня урбанизации, Курб | Q3: SUMj(ПijxKnij) | R3: ИБРобраз | S3: Коэффициент дисперсности расселения, Кдисп | T3: Коэффициент стоимости предоставления коммунальных услуг, Кку | U3: SUMj(ПijxKnij) | V3: ИБРкульт | W3: Коэффициент уровня урбанизации, Курб | X3: SUMj(ПijxKnij) | Y3: ИБРдор | Z3: Коэффициент уровня урбанизации, Курб | AA3: SUMj(ПijxKnij) | AB3: ИБР иные | AC3: Коэффициент благоустройства, Кблаг | AD3: SUMj(ПijxKnij) | AE3: ИБР благоустр | AF3: Доля вида расходов | AM3: Доля ИБР | AT3: ИБР SUM (аi х ИБРij)
AF4: ОМСУ (а1) | AG4: ДОУ (а2) | AH4: Образ (а3) | AI4: Культура (а4) | AJ4: Дорож деят (а5) | AK4: Благоустр (а6) | AL4: Иные (а7) | AM4: (а1 х ИБР омсу) | AN4: (а2 х ИБРдоу | AO4: (а3 х ИБРобраз | AP4: (а4 х ИБРкульт | AQ4: (а5 х ИБРдор | AR4: (а6 х ИБР благоустр | AS4: (а7 х ИБР иные
A5: 1 | B5: 2 | C5: 3 | D5: 4 | E5: 5=гр.3хгр.4 | F5: 6=(гр.5/SUMгр.5)/(гр.3/SUMгр.3) | G5: 7 | H5: 9 | I5: 10 | J5: 11 | K5: 12=гр.7*гр.8*гр.9*гр.10*гр.11 | L5: 13=(гр.12/SUMгр.12)/(гр.3/SUMгр.3) | M5: 14 | N5: 16 | O5: 17 | P5: 18 | Q5: 19=гр14*гр.15*гр.16*гр.17*гр.18 | R5: 20=(гр.19/SUMгр.19)/(гр.3/SUMгр.3) | S5: 21 | T5: 22 | U5: 23=гр.3*гр.21*гр.22 | V5: 24=(гр.23/SUMгр.23)/(гр.3/SUMгр.3) | W5: 25 | X5: 27=гр.3*гр.25 | Y5: 24=(гр.27/SUMгр.27)/(гр.3/SUMгр.3) | Z5: 29 | AA5: 30=гр.3*гр.29 | AB5: 31=(гр.30/SUMгр.30)/(гр.3/SUMгр.3) | AC5: 32 | AD5: 33 | AE5: 34=(гр.33/SUMгр.33)/(гр.3/SUMгр.3) | AF5: 32 | AG5: 33 | AH5: 34 | AI5: 35 | AJ5: 36 | AK5: 37 | AL5: 38 | AM5: 39 | AN5: 40 | AO5: 41 | AP5: 42 | AQ5: 43 | AR5: 44 | AS5: 45 | AT5: 46=гр.39+гр.40+гр.41+гр.42+гр.43+гр.44+гр.45
A6: 1 | B6: Алатырский | C6: 14216 | D6: 1.3240055 | E6: 18822.062 | F6: 3.3099081 | G6: 1015 | H6: 1.0191799 | I6: 1.1513901 | J6: 1 | K6: 1191.0758 | L6: 0.63368339 | M6: 1432 | N6: 1.0191799 | O6: 1.1513901 | P6: 1 | Q6: 1680.4143 | R6: 0.61509915 | S6: 1.0191799 | T6: 1.1513901 | U6: 16682.102 | V6: 0.91670814 | W6: 1 | X6: 14216 | Y6: 0.77625063 | Z6: 1 | AA6: 14216 | AB6: 0.77625063 | AM6: =$AF$32*F6 -> 0.49648622 | AN6: =$AG$32*L6 -> 0.050694672 | AO6: =$AH$32*R6 -> 0.07996289 | AP6: =$AI$32*V6 -> 0.082503732 | AQ6: =$AJ$32*Y6 -> 0.093150076 | AR6: =$AK$32*AE6 -> 0 | AS6: =$AL$32*AB6 -> 0.28721273 | AT6: =AM6+AN6+AO6+AP6+AS6+AQ6+AR6 -> 1.0900103
A7: 2 | B7: Аликовский | C7: 15173 | D7: 1.240497 | E7: 18822.062 | F7: 3.1011437 | G7: 1265 | H7: 1.5482138 | I7: 1.1176507 | J7: 1 | K7: 2188.9082 | L7: 1.0911047 | M7: 1803 | N7: 1.5482138 | O7: 1.1176507 | P7: 1 | Q7: 3119.8431 | R7: 1.0699598 | S7: 1.5482138 | T7: 1.1176507 | U7: 26254.786 | V7: 1.3517449 | W7: 1 | X7: 15173 | Y7: 0.77625063 | Z7: 1 | AA7: 15173 | AB7: 0.77625063 | AM7: =$AF$32*F7 -> 0.46517156 | AN7: =$AG$32*L7 -> 0.087288377 | AO7: =$AH$32*R7 -> 0.13909477 | AP7: =$AI$32*V7 -> 0.12165704 | AQ7: =$AJ$32*Y7 -> 0.093150076 | AR7: =$AK$32*AE7 -> 0 | AS7: =$AL$32*AB7 -> 0.28721273 | AT7: =AM7+AN7+AO7+AP7+AS7+AQ7+AR7 -> 1.1935746
A8: 3 | B8: Батыревский | C8: 33419 | D8: 0.56321439 | E8: 18822.062 | F8: 1.4079911 | G8: 2839 | H8: 1.0658323 | I8: 1.16 | J8: 1 | K8: 3510.0416 | L8: 0.79438157 | M8: 4306 | N8: 1.0658323 | O8: 1.16 | P8: 1 | Q8: 5323.7898 | R8: 0.82896008 | S8: 1.0658323 | T8: 1.16 | U8: 41318.099 | V8: 0.9658387 | W8: 1 | X8: 33419 | Y8: 0.77625063 | Z8: 1 | AA8: 33419 | AB8: 0.77625063 | AM8: =$AF$32*F8 -> 0.21119866 | AN8: =$AG$32*L8 -> 0.063550525 | AO8: =$AH$32*R8 -> 0.10776481 | AP8: =$AI$32*V8 -> 0.086925483 | AQ8: =$AJ$32*Y8 -> 0.093150076 | AR8: =$AK$32*AE8 -> 0 | AS8: =$AL$32*AB8 -> 0.28721273 | AT8: =AM8+AN8+AO8+AP8+AS8+AQ8+AR8 -> 0.84980229
A9: 4 | B9: Вурнарский | C9: 31105 | D9: 0.6051137 | E9: 18822.062 | F9: 1.512736 | G9: 2498 | H9: 1.3003801 | I9: 1.1378441 | J9: 1 | K9: 3696.1153 | L9: 0.89872256 | M9: 4099 | N9: 1.3003801 | O9: 1.1378441 | P9: 1 | Q9: 6065.0026 | R9: 1.0146283 | S9: 1.3003801 | T9: 1.1378441 | U9: 46023.886 | V9: 1.1558748 | W9: 1 | X9: 31105 | Y9: 0.77625063 | Z9: 1 | AA9: 31105 | AB9: 0.77625063 | AM9: =$AF$32*F9 -> 0.2269104 | AN9: =$AG$32*L9 -> 0.071897805 | AO9: =$AH$32*R9 -> 0.13190167 | AP9: =$AI$32*V9 -> 0.10402873 | AQ9: =$AJ$32*Y9 -> 0.093150076 | AR9: =$AK$32*AE9 -> 0 | AS9: =$AL$32*AB9 -> 0.28721273 | AT9: =AM9+AN9+AO9+AP9+AS9+AQ9+AR9 -> 0.91510143
A10: 5 | B10: Ибресинский | C10: 22893 | D10: 0.8221754 | E10: 18822.062 | F10: 2.055373 | G10: 1771 | H10: 1.0955683 | I10: 1.1732582 | J10: 1 | K10: 2276.4158 | L10: 0.75207167 | M10: 2917 | N10: 1.0955683 | O10: 1.1732582 | P10: 1 | Q10: 3749.4664 | R10: 0.85226161 | S10: 1.0955683 | T10: 1.1732582 | U10: 29426.306 | V10: 1.0041319 | W10: 1 | X10: 22893 | Y10: 0.77625063 | Z10: 1 | AA10: 22893 | AB10: 0.77625063 | AM10: =$AF$32*F10 -> 0.30830595 | AN10: =$AG$32*L10 -> 0.060165734 | AO10: =$AH$32*R10 -> 0.11079401 | AP10: =$AI$32*V10 -> 0.090371871 | AQ10: =$AJ$32*Y10 -> 0.093150076 | AR10: =$AK$32*AE10 -> 0 | AS10: =$AL$32*AB10 -> 0.28721273 | AT10: =AM10+AN10+AO10+AP10+AS10+AQ10+AR10 -> 0.95000037
A11: 6 | B11: Канашский | C11: 34528 | D11: 0.54512458 | E11: 18822.062 | F11: 1.362768 | G11: 2763 | H11: 1.2385148 | I11: 1.1557586 | J11: 1 | K11: 3955.0249 | L11: 0.86633955 | M11: 4022 | N11: 1.2385148 | O11: 1.1557586 | P11: 1 | Q11: 5757.1879 | R11: 0.86765115 | S11: 1.2385148 | T11: 1.1557586 | U11: 49424.213 | V11: 1.1182169 | W11: 1 | X11: 34528 | Y11: 0.77625063 | Z11: 1 | AA11: 34528 | AB11: 0.77625063 | AM11: =$AF$32*F11 -> 0.2044152 | AN11: =$AG$32*L11 -> 0.069307164 | AO11: =$AH$32*R11 -> 0.11279465 | AP11: =$AI$32*V11 -> 0.10063952 | AQ11: =$AJ$32*Y11 -> 0.093150076 | AR11: =$AK$32*AE11 -> 0 | AS11: =$AL$32*AB11 -> 0.28721273 | AT11: =AM11+AN11+AO11+AP11+AS11+AQ11+AR11 -> 0.86751935
A12: 7 | B12: Козловский | C12: 18445 | D12: 1.0204425 | E12: 18822.062 | F12: 2.5510249 | G12: 1069 | H12: 1.2126672 | I12: 1.1570181 | J12: 1.0112632 | K12: 1516.7839 | L12: 0.62194988 | M12: 2003 | N12: 1.2126672 | O12: 1.1570181 | P12: 1.0112632 | Q12: 2842.0188 | R12: 0.80177859 | S12: 1.2126672 | T12: 1.1570181 | U12: 25879.773 | V12: 1.0960731 | W12: 1.0112632 | X12: 18652.75 | Y12: 0.78499369 | Z12: 1.0112632 | AA12: 18652.75 | AB12: 0.78499369 | AM12: =$AF$32*F12 -> 0.38265373 | AN12: =$AG$32*L12 -> 0.04975599 | AO12: =$AH$32*R12 -> 0.10423122 | AP12: =$AI$32*V12 -> 0.098646581 | AQ12: =$AJ$32*Y12 -> 0.094199243 | AR12: =$AK$32*AE12 -> 0 | AS12: =$AL$32*AB12 -> 0.29044767 | AT12: =AM12+AN12+AO12+AP12+AS12+AQ12+AR12 -> 1.0199344
A13: 8 | B13: Комсомольский | C13: 24567 | D13: 0.76615222 | E13: 18822.062 | F13: 1.9153195 | G13: 1907 | H13: 1.1876243 | I13: 1.1235613 | J13: 1 | K13: 2544.6409 | L13: 0.78340208 | M13: 3109 | N13: 1.1876243 | O13: 1.1235613 | P13: 1 | Q13: 4148.552 | R13: 0.87872013 | S13: 1.1876243 | T13: 1.1235613 | U13: 32781.433 | V13: 1.0423979 | W13: 1 | X13: 24567 | Y13: 0.77625063 | Z13: 1 | AA13: 24567 | AB13: 0.77625063 | AM13: =$AF$32*F13 -> 0.28729792 | AN13: =$AG$32*L13 -> 0.062672166 | AO13: =$AH$32*R13 -> 0.11423362 | AP13: =$AI$32*V13 -> 0.093815814 | AQ13: =$AJ$32*Y13 -> 0.093150076 | AR13: =$AK$32*AE13 -> 0 | AS13: =$AL$32*AB13 -> 0.28721273 | AT13: =AM13+AN13+AO13+AP13+AS13+AQ13+AR13 -> 0.93838233
A14: 9 | B14: Красноармейский | C14: 13849 | D14: 1.3590917 | E14: 18822.062 | F14: 3.397621 | G14: 1142 | H14: 1.4329595 | I14: 1.1521975 | J14: 1 | K14: 1885.5018 | L14: 1.0297194 | M14: 1518 | N14: 1.4329595 | O14: 1.1521975 | P14: 1 | Q14: 2506.2975 | R14: 0.94171692 | S14: 1.4329595 | T14: 1.1521975 | U14: 22865.424 | V14: 1.2897887 | W14: 1 | X14: 13849 | Y14: 0.77625063 | Z14: 1 | AA14: 13849 | AB14: 0.77625063 | AM14: =$AF$32*F14 -> 0.50964316 | AN14: =$AG$32*L14 -> 0.082377549 | AO14: =$AH$32*R14 -> 0.1224232 | AP14: =$AI$32*V14 -> 0.11608099 | AQ14: =$AJ$32*Y14 -> 0.093150076 | AR14: =$AK$32*AE14 -> 0 | AS14: =$AL$32*AB14 -> 0.28721273 | AT14: =AM14+AN14+AO14+AP14+AS14+AQ14+AR14 -> 1.2108877
A15: 10 | B15: Красночетайский | C15: 13568 | D15: 1.3872392 | E15: 18822.062 | F15: 3.4679875 | G15: 887 | H15: 1.4242838 | I15: 1.1227667 | J15: 1 | K15: 1418.4357 | L15: 0.7906862 | M15: 1431 | N15: 1.4242838 | O15: 1.1227667 | P15: 1 | Q15: 2288.367 | R15: 0.87763917 | S15: 1.4242838 | T15: 1.1227667 | U15: 21697.109 | V15: 1.2492339 | W15: 1 | X15: 13568 | Y15: 0.77625063 | Z15: 1 | AA15: 13568 | AB15: 0.77625063 | AM15: =$AF$32*F15 -> 0.52019812 | AN15: =$AG$32*L15 -> 0.063254896 | AO15: =$AH$32*R15 -> 0.11409309 | AP15: =$AI$32*V15 -> 0.11243105 | AQ15: =$AJ$32*Y15 -> 0.093150076 | AR15: =$AK$32*AE15 -> 0 | AS15: =$AL$32*AB15 -> 0.28721273 | AT15: =AM15+AN15+AO15+AP15+AS15+AQ15+AR15 -> 1.19034
A16: 11 | B16: Марпосадский | C16: 21562 | D16: 0.87292744 | E16: 18822.062 | F16: 2.182249 | G16: 1596 | H16: 1.2431082 | I16: 1.1480535 | J16: 1.0110945 | K16: 2303.0093 | L16: 0.80782444 | M16: 2414 | N16: 1.2431082 | O16: 1.1480535 | P16: 1.0110945 | Q16: 3483.3737 | R16: 0.84065382 | S16: 1.2431082 | T16: 1.1480535 | U16: 30772.31 | V16: 1.1148817 | W16: 1.0110945 | X16: 21801.22 | Y16: 0.78486275 | Z16: 1.0110945 | AA16: 21801.22 | AB16: 0.78486275 | AM16: =$AF$32*F16 -> 0.32733736 | AN16: =$AG$32*L16 -> 0.064625955 | AO16: =$AH$32*R16 -> 0.109285 | AP16: =$AI$32*V16 -> 0.10033935 | AQ16: =$AJ$32*Y16 -> 0.09418353 | AR16: =$AK$32*AE16 -> 0 | AS16: =$AL$32*AB16 -> 0.29039922 | AT16: =AM16+AN16+AO16+AP16+AS16+AQ16+AR16 -> 0.98617041
A17: 12 | B17: Моргаушский | C17: 32107 | D17: 0.58622922 | E17: 18822.062 | F17: 1.4655263 | G17: 2411 | H17: 1.4408908 | I17: 1.1740884 | J17: 1 | K17: 4078.7686 | L17: 0.96081479 | M17: 3840 | N17: 1.4408908 | O17: 1.1740884 | P17: 1 | Q17: 6496.2553 | R17: 1.0528573 | S17: 1.4408908 | T17: 1.1740884 | U17: 54316.476 | V17: 1.3215682 | W17: 1 | X17: 32107 | Y17: 0.77625063 | Z17: 1 | AA17: 32107 | AB17: 0.77625063 | AM17: =$AF$32*F17 -> 0.21982895 | AN17: =$AG$32*L17 -> 0.076865183 | AO17: =$AH$32*R17 -> 0.13687145 | AP17: =$AI$32*V17 -> 0.11894114 | AQ17: =$AJ$32*Y17 -> 0.093150076 | AR17: =$AK$32*AE17 -> 0 | AS17: =$AL$32*AB17 -> 0.28721273 | AT17: =AM17+AN17+AO17+AP17+AS17+AQ17+AR17 -> 0.93286953
... A26: 21 | B26: Янтиковский | C26: 14069 | D26: 1.3378393 | E26: 18822.062 | F26: 3.3444917 | G26: 1008 | H26: 1.1815546 | I26: 1.1211103 | J26: 1 | K26: 1335.2503 | L26: 0.71781046 | M26: 1665 | N26: 1.1815546 | O26: 1.1211103 | P26: 1 | Q26: 2205.5473 | R26: 0.81575419 | S26: 1.1815546 | T26: 1.1211103 | U26: 18636.543 | V26: 1.0348082 | W26: 1 | X26: 14069 | Y26: 0.77625063 | Z26: 1 | AA26: 14069 | AB26: 0.77625063 | AM26: =$AF$32*F26 -> 0.50167376 | AN26: =$AG$32*L26 -> 0.057424836 | AO26: =$AH$32*R26 -> 0.10604804 | AP26: =$AI$32*V26 -> 0.093132739 | AQ26: =$AJ$32*Y26 -> 0.093150076 | AR26: =$AK$32*AE26 -> 0 | AS26: =$AL$32*AB26 -> 0.28721273 | AT26: =AM26+AN26+AO26+AP26+AS26+AQ26+AR26 -> 1.1386422
A27: 22 | B27: г. Алатырь | C27: 34176 | D27: 0.55073916 | E27: 18822.062 | F27: 1.376804 | G27: 2193 | H27: 1 | I27: 1.2934939 | J27: 1.0443469 | K27: 2962.4279 | L27: 0.65559691 | M27: 3466 | N27: 1 | O27: 1.2934939 | P27: 1.0443469 | Q27: 4682.068 | R27: 0.71289021 | S27: 1 | T27: 1.2934939 | U27: 44206.448 | V27: 1.010467 | W27: 1.0443469 | X27: 35691.598 | Y27: 0.81067491 | Z27: 1.0443469 | AA27: 35691.598 | AB27: 0.81067491 | AC27: 2.4110158 | AD27: 82398.877 | AE27: 3.4110158 | AM27: =$AF$32*F27 -> 0.2065206 | AN27: =$AG$32*L27 -> 0.052447753 | AO27: =$AH$32*R27 -> 0.092675728 | AP27: =$AI$32*V27 -> 0.090942027 | AQ27: =$AJ$32*Y27 -> 0.09728099 | AR27: =$AK$32*AE27 -> 0.20466095 | AS27: =$AL$32*AB27 -> 0.29994972 | AT27: =AM27+AN27+AO27+AP27+AS27+AQ27+AR27 -> 1.0444778
A28: 23 | B28: г. Канаш | C28: 45222 | D28: 0.41621471 | E28: 18822.062 | F28: 1.0405036 | G28: 4039 | H28: 1 | I28: 1.2249681 | J28: 1.0586802 | K28: 5237.9748 | L28: 0.87604009 | M28: 6724 | N28: 1 | O28: 1.2249681 | P28: 1.0586802 | Q28: 8720.0156 | R28: 1.003399 | S28: 1 | T28: 1.2249681 | U28: 55395.506 | V28: 0.95693513 | W28: 1.0586802 | X28: 47875.635 | Y28: 0.82180116 | Z28: 1.0586802 | AA28: 47875.635 | AB28: 0.82180116 | AC28: 0.81795383 | AD28: 36989.508 | AE28: 1.8179538 | AM28: =$AF$32*F28 -> 0.15607554 | AN28: =$AG$32*L28 -> 0.070083207 | AO28: =$AH$32*R28 -> 0.13044187 | AP28: =$AI$32*V28 -> 0.086124162 | AQ28: =$AJ$32*Y28 -> 0.098616139 | AR28: =$AK$32*AE28 -> 0.10907723 | AS28: =$AL$32*AB28 -> 0.30406643 | AT28: =AM28+AN28+AO28+AP28+AS28+AQ28+AR28 -> 0.95448458
A29: 24 | B29: г. Новочебоксарск | C29: 127099 | D29: 0.14808977 | E29: 18822.062 | F29: 0.37021262 | G29: 8461 | H29: 1 | I29: 1.1 | J29: 1.1645282 | K29: 10838.381 | L29: 0.64495974 | M29: 16147 | N29: 1 | O29: 1.1 | P29: 1.1645282 | Q29: 20684.001 | R29: 0.84683457 | S29: 1 | T29: 1.1 | U29: 139808.9 | V29: 0.85931108 | W29: 1.1645282 | X29: 148010.37 | Y29: 0.90396576 | Z29: 1.1645282 | AA29: 148010.37 | AB29: 0.90396576 | AC29: 0.79546477 | AD29: 101102.78 | AE29: 1.7954648 | AM29: =$AF$32*F29 -> 0.055531893 | AN29: =$AG$32*L29 -> 0.051596779 | AO29: =$AH$32*R29 -> 0.11008849 | AP29: =$AI$32*V29 -> 0.077337997 | AQ29: =$AJ$32*Y29 -> 0.10847589 | AR29: =$AK$32*AE29 -> 0.10772789 | AS29: =$AL$32*AB29 -> 0.33446733 | AT29: =AM29+AN29+AO29+AP29+AS29+AQ29+AR29 -> 0.84522627
A30: 25 | B30: г. Шумерля | C30: 28647 | D30: 0.6570343 | E30: 18822.062 | F30: 1.6425334 | G30: 2030 | H30: 1 | I30: 1.19 | J30: 1.0371724 | K30: 2505.4974 | L30: 0.66149284 | M30: 3532 | N30: 1 | O30: 1.19 | P30: 1.0371724 | Q30: 4359.3187 | R30: 0.79185495 | S30: 1 | T30: 1.19 | U30: 34089.93 | V30: 0.92961835 | W30: 1.0371724 | X30: 29711.878 | Y30: 0.80510575 | Z30: 1.0371724 | AA30: 29711.878 | AB30: 0.80510575 | AC30: 0.91646877 | AD30: 26254.081 | AE30: 1.9164688 | AM30: =$AF$32*F30 -> 0.24638001 | AN30: =$AG$32*L30 -> 0.052919428 | AO30: =$AH$32*R30 -> 0.10294114 | AP30: =$AI$32*V30 -> 0.083665652 | AQ30: =$AJ$32*Y30 -> 0.09661269 | AR30: =$AK$32*AE30 -> 0.11498813 | AS30: =$AL$32*AB30 -> 0.29788913 | AT30: =AM30+AN30+AO30+AP30+AS30+AQ30+AR30 -> 0.99539617
A31: 26 | B31: г. Чебоксары | C31: 505800 | D31: 0.037212459 | E31: 18822.062 | F31: 0.093028181 | G31: 45161 | H31: 1 | I31: 1.1930015 | J31: 1.6427246 | K31: 88505.306 | L31: 1.3234295 | M31: 59322 | N31: 1 | O31: 1.1930015 | P31: 1.6427246 | Q31: 116257.65 | R31: 1.1960488 | S31: 1 | T31: 1.1930015 | U31: 603420.17 | V31: 0.93196311 | W31: 1.6427246 | X31: 830890.1 | Y31: 1.275166 | Z31: 1.6427246 | AA31: 830890.1 | AB31: 1.275166 | AC31: 0.97706358 | AD31: 494198.76 | AE31: 1.9770636 | AM31: =$AF$32*F31 -> 0.013954227 | AN31: =$AG$32*L31 -> 0.10587436 | AO31: =$AH$32*R31 -> 0.15548634 | AP31: =$AI$32*V31 -> 0.08387668 | AQ31: =$AJ$32*Y31 -> 0.15301992 | AR31: =$AK$32*AE31 -> 0.11862381 | AS31: =$AL$32*AB31 -> 0.47181142 | AT31: =AM31+AN31+AO31+AP31+AS31+AQ31+AR31 -> 1.1026468
B32: ВСЕГО | C32: 1223395 | D32: 0.015385106 | E32: 489373.6 | F32: 1 | G32: 98011 | H32: 1 | I32: 1 | J32: 2 | K32: 161754.5 | L32: 1 | M32: 145382 | N32: 1 | O32: 1 | P32: 2 | Q32: 235104.28 | R32: 1 | S32: 1 | T32: 1 | U32: 1566062.1 | V32: 1 | W32: 2 | X32: 1576030.9 | Y32: 1 | Z32: 2 | AA32: 1576030.9 | AB32: 1 | AC32: 2 | AD32: 740944 | AE32: 1 | AF32: 0.15 | AG32: 0.08 | AH32: 0.13 | AI32: 0.09 | AJ32: 0.12 | AK32: 0.06 | AL32: 0.37 | AM32: =$AF$32*F32 -> 0.15 | AN32: =$AG$32*L32 -> 0.08 | AO32: =$AH$32*R32 -> 0.13 | AP32: =$AI$32*V32 -> 0.09 | AQ32: =$AJ$32*Y32 -> 0.12 | AR32: =$AK$32*AE32 -> 0.06 | AS32: =$AL$32*AB32 -> 0.37 | AT32: =AM32+AN32+AO32+AP32+AS32+AQ32+AR32 -> 1
B33: по городским округам | C33: 740944

Sheet ИБР 2021
C1: Расчет индекса бюджетных расходов (ИБР) на 2021 год
A3: № п/п | B3: Муниципальные районы городские округа | C3: Численность населения на 01.01.2019 Пj | D3: Коэффициент масштаба, Км | E3: SUMj(ПijxKnij) | F3: ИБР омсу | G3: Дети в возрасте от 1-6 лет | H3: Коэффициент дисперсности расселения, Кдисп | I3: Коэффициент стоимости предоставления коммунальных услуг, Кку | J3: Коэффициент уровня урбанизации, Курб | K3: SUMj(ПijxKnij) | L3: ИБРдоу | M3: Дети в возрасте от 7 до 17 лет | N3: Коэффициент дисперсности расселения, Кдисп | O3: Коэффициент стоимости предоставления коммунальных услуг, Кку | P3: Коэффициент уровня урбанизации, Курб | Q3: SUMj(ПijxKnij) | R3: ИБРобраз | S3: Коэффициент дисперсности расселения, Кдисп | T3: Коэффициент стоимости предоставления коммунальных услуг, Кку | U3: SUMj(ПijxKnij) | V3: ИБРкульт | W3: Коэффициент уровня урбанизации, Курб | X3: Коэффициент протяженности дорог, Кдорог | Y3: SUMj(ПijxKnij) | Z3: ИБРдор | AA3: Коэффициент уровня урбанизации, Курб | AB3: SUMj(ПijxKnij) | AC3: ИБР иные | AD3: Коэффициент благоустройства, Кблаг | AE3: SUMj(ПijxKnij) | AF3: ИБР благоустр | AG3: Доля вида расходов | AN3: Доля ИБР | AU3: ИБР SUM (аi х ИБРij)
AG4: ОМСУ (а1) | AH4: ДОУ (а2) | AI4: Образ (а3) | AJ4: Культура (а4) | AK4: Дорож деят (а5) | AL4: Благоустр (а6) | AM4: Иные (а7) | AN4: (а1 х ИБР омсу) | AO4: (а2 х ИБРдоу | AP4: (а3 х ИБРобраз | AQ4: (а4 х ИБРкульт | AR4: (а5 х ИБРдор | AS4: (а6 х ИБР благоустр | AT4: (а7 х ИБР иные
A5: 1 | B5: 2 | C5: 3 | D5: 4 | E5: 5=гр.3хгр.4 | F5: 6=(гр.5/SUMгр.5)/(гр.3/SUMгр.3) | G5: 7 | H5: 9 | I5: 10 | J5: 11 | K5: 12=гр.7*гр.8*гр.9*гр.10*гр.11 | L5: 13=(гр.12/SUMгр.12)/(гр.3/SUMгр.3) | M5: 14 | N5: 16 | O5: 17 | P5: 18 | Q5: 19=гр14*гр.15*гр.16*гр.17*гр.18 | R5: 20=(гр.19/SUMгр.19)/(гр.3/SUMгр.3) | S5: 21 | T5: 22 | U5: 23=гр.3*гр.21*гр.22 | V5: 24=(гр.23/SUMгр.23)/(гр.3/SUMгр.3) | W5: 25 | X5: 26 | Y5: 27=гр.3*гр.25 | Z5: 24=(гр.27/SUMгр.27)/(гр.3/SUMгр.3) | AA5: 29 | AB5: 30=гр.3*гр.29 | AC5: 31=(гр.30/SUMгр.30)/(гр.3/SUMгр.3) | AD5: 32 | AE5: 33 | AF5: 34=(гр.33/SUMгр.33)/(гр.3/SUMгр.3) | AG5: 32 | AH5: 33 | AI5: 34 | AJ5: 35 | AK5: 36 | AL5: 37 | AM5: 38 | AN5: 39 | AO5: 40 | AP5: 41 | AQ5: 42 | AR5: 43 | AS5: 44 | AT5: 45 | AU5: 46=гр.39+гр.40+гр.41+гр.42+гр.43+гр.44+гр.45
A6: 1 | B6: Алатырский | C6: 14216 | D6: 1.3240055 | E6: 18822.062 | F6: 3.3099081 | G6: 1015 | H6: 1.0191799 | I6: 1.1513901 | J6: 1 | K6: 1191.0758 | L6: 0.63368339 | M6: 1432 | N6: 1.0191799 | O6: 1.1513901 | P6: 1 | Q6: 1680.4143 | R6: 0.61509915 | S6: 1.0191799 | T6: 1.1513901 | U6: 16682.102 | V6: 0.91670814 | W6: 1 | Y6: 14216 | Z6: 0.77625063 | AA6: 1 | AB6: 14216 | AC6: 0.77625063 | AN6: =$AG$32*F6 -> 0.49648622 | AO6: =$AH$32*L6 -> 0.057031506 | AP6: =$AI$32*R6 -> 0.07996289 | AQ6: =$AJ$32*V6 -> 0.082503732 | AR6: =$AK$32*Z6 -> 0.093150076 | AS6: =$AL$32*AF6 -> 0 | AT6: =$AM$32*AC6 -> 0.27945023 | AU6: =AN6+AO6+AP6+AQ6+AT6+AR6+AS6 -> 1.0885846
A7: 2 | B7: Аликовский | C7: 15173 | D7: 1.240497 | E7: 18822.062 | F7: 3.1011437 | G7: 1265 | H7: 1.5482138 | I7: 1.1176507 | J7: 1 | K7: 2188.9082 | L7: 1.0911047 | M7: 1803 | N7: 1.5482138 | O7: 1.1176507 | P7: 1 | Q7: 3119.8431 | R7: 1.0699598 | S7: 1.5482138 | T7: 1.1176507 | U7: 26254.786 | V7: 1.3517449 | W7: 1 | Y7: 15173 | Z7: 0.77625063 | AA7: 1 | AB7: 15173 | AC7: 0.77625063 | AN7: =$AG$32*F7 -> 0.46517156 | AO7: =$AH$32*L7 -> 0.098199425 | AP7: =$AI$32*R7 -> 0.13909477 | AQ7: =$AJ$32*V7 -> 0.12165704 | AR7: =$AK$32*Z7 -> 0.093150076 | AS7: =$AL$32*AF7 -> 0 | AT7: =$AM$32*AC7 -> 0.27945023 | AU7: =AN7+AO7+AP7+AQ7+AT7+AR7+AS7 -> 1.1967231
A8: 3 | B8: Батыревский | C8: 33419 | D8: 0.56321439 | E8: 18822.062 | F8: 1.4079911 | G8: 2839 | H8: 1.0658323 | I8: 1.16 | J8: 1 | K8: 3510.0416 | L8: 0.79438157 | M8: 4306 | N8: 1.0658323 | O8: 1.16 | P8: 1 | Q8: 5323.7898 | R8: 0.82896008 | S8: 1.0658323 | T8: 1.16 | U8: 41318.099 | V8: 0.9658387 | W8: 1 | Y8: 33419 | Z8: 0.77625063 | AA8: 1 | AB8: 33419 | AC8: 0.77625063 | AN8: =$AG$32*F8 -> 0.21119866 | AO8: =$AH$32*L8 -> 0.071494341 | AP8: =$AI$32*R8 -> 0.10776481 | AQ8: =$AJ$32*V8 -> 0.086925483 | AR8: =$AK$32*Z8 -> 0.093150076 | AS8: =$AL$32*AF8 -> 0 | AT8: =$AM$32*AC8 -> 0.27945023 | AU8: =AN8+AO8+AP8+AQ8+AT8+AR8+AS8 -> 0.8499836
A9: 4 | B9: Вурнарский | C9: 31105 | D9: 0.6051137 | E9: 18822.062 | F9: 1.512736 | G9: 2498 | H9: 1.3003801 | I9: 1.1378441 | J9: 1 | K9: 3696.1153 | L9: 0.89872256 | M9: 4099 | N9: 1.3003801 | O9: 1.1378441 | P9: 1 | Q9: 6065.0026 | R9: 1.0146283 | S9: 1.3003801 | T9: 1.1378441 | U9: 46023.886 | V9: 1.1558748 | W9: 1 | Y9: 31105 | Z9: 0.77625063 | AA9: 1 | AB9: 31105 | AC9: 0.77625063 | AN9: =$AG$32*F9 -> 0.2269104 | AO9: =$AH$32*L9 -> 0.080885031 | AP9: =$AI$32*R9 -> 0.13190167 | AQ9: =$AJ$32*V9 -> 0.10402873 | AR9: =$AK$32*Z9 -> 0.093150076 | AS9: =$AL$32*AF9 -> 0 | AT9: =$AM$32*AC9 -> 0.27945023 | AU9: =AN9+AO9+AP9+AQ9+AT9+AR9+AS9 -> 0.91632614
A10: 5 | B10: Ибресинский | C10: 22893 | D10: 0.8221754 | E10: 18822.062 | F10: 2.055373 | G10: 1771 | H10: 1.0955683 | I10: 1.1732582 | J10: 1 | K10: 2276.4158 | L10: 0.75207167 | M10: 2917 | N10: 1.0955683 | O10: 1.1732582 | P10: 1 | Q10: 3749.4664 | R10: 0.85226161 | S10: 1.0955683 | T10: 1.1732582 | U10: 29426.306 | V10: 1.0041319 | W10: 1 | Y10: 22893 | Z10: 0.77625063 | AA10: 1 | AB10: 22893 | AC10: 0.77625063 | AN10: =$AG$32*F10 -> 0.30830595 | AO10: =$AH$32*L10 -> 0.06768645 | AP10: =$AI$32*R10 -> 0.11079401 | AQ10: =$AJ$32*V10 -> 0.090371871 | AR10: =$AK$32*Z10 -> 0.093150076 | AS10: =$AL$32*AF10 -> 0 | AT10: =$AM$32*AC10 -> 0.27945023 | AU10: =AN10+AO10+AP10+AQ10+AT10+AR10+AS10 -> 0.94975858
A11: 6 | B11: Канашский | C11: 34528 | D11: 0.54512458 | E11: 18822.062 | F11: 1.362768 | G11: 2763 | H11: 1.2385148 | I11: 1.1557586 | J11: 1 | K11: 3955.0249 | L11: 0.86633955 | M11: 4022 | N11: 1.2385148 | O11: 1.1557586 | P11: 1 | Q11: 5757.1879 | R11: 0.86765115 | S11: 1.2385148 | T11: 1.1557586 | U11: 49424.213 | V11: 1.1182169 | W11: 1 | Y11: 34528 | Z11: 0.77625063 | AA11: 1 | AB11: 34528 | AC11: 0.77625063 | AN11: =$AG$32*F11 -> 0.2044152 | AO11: =$AH$32*L11 -> 0.077970559 | AP11: =$AI$32*R11 -> 0.11279465 | AQ11: =$AJ$32*V11 -> 0.10063952 | AR11: =$AK$32*Z11 -> 0.093150076 | AS11: =$AL$32*AF11 -> 0 | AT11: =$AM$32*AC11 -> 0.27945023 | AU11: =AN11+AO11+AP11+AQ11+AT11+AR11+AS11 -> 0.86842024
A12: 7 | B12: Козловский | C12: 18445 | D12: 1.0204425 | E12: 18822.062 | F12: 2.5510249 | G12: 1069 | H12: 1.2126672 | I12: 1.1570181 | J12: 1.0112632 | K12: 1516.7839 | L12: 0.62194988 | M12: 2003 | N12: 1.2126672 | O12: 1.1570181 | P12: 1.0112632 | Q12: 2842.0188 | R12: 0.80177859 | S12: 1.2126672 | T12: 1.1570181 | U12: 25879.773 | V12: 1.0960731 | W12: 1.0112632 | Y12: 18652.75 | Z12: 0.78499369 | AA12: 1.0112632 | AB12: 18652.75 | AC12: 0.78499369 | AN12: =$AG$32*F12 -> 0.38265373 | AO12: =$AH$32*L12 -> 0.055975489 | AP12: =$AI$32*R12 -> 0.10423122 | AQ12: =$AJ$32*V12 -> 0.098646581 | AR12: =$AK$32*Z12 -> 0.094199243 | AS12: =$AL$32*AF12 -> 0 | AT12: =$AM$32*AC12 -> 0.28259773 | AU12: =AN12+AO12+AP12+AQ12+AT12+AR12+AS12 -> 1.018304
A13: 8 | B13: Комсомольский | C13: 24567 | D13: 0.76615222 | E13: 18822.062 | F13: 1.9153195 | G13: 1907 | H13: 1.1876243 | I13: 1.1235613 | J13: 1 | K13: 2544.6409 | L13: 0.78340208 | M13: 3109 | N13: 1.1876243 | O13: 1.1235613 | P13: 1 | Q13: 4148.552 | R13: 0.87872013 | S13: 1.1876243 | T13: 1.1235613 | U13: 32781.433 | V13: 1.0423979 | W13: 1 | Y13: 24567 | Z13: 0.77625063 | AA13: 1 | AB13: 24567 | AC13: 0.77625063 | AN13: =$AG$32*F13 -> 0.28729792 | AO13: =$AH$32*L13 -> 0.070506187 | AP13: =$AI$32*R13 -> 0.11423362 | AQ13: =$AJ$32*V13 -> 0.093815814 | AR13: =$AK$32*Z13 -> 0.093150076 | AS13: =$AL$32*AF13 -> 0 | AT13: =$AM$32*AC13 -> 0.27945023 | AU13: =AN13+AO13+AP13+AQ13+AT13+AR13+AS13 -> 0.93845384
A14: 9 | B14: Красноармейский | C14: 13849 | D14: 1.3590917 | E14: 18822.062 | F14: 3.397621 | G14: 1142 | H14: 1.4329595 | I14: 1.1521975 | J14: 1 | K14: 1885.5018 | L14: 1.0297194 | M14: 1518 | N14: 1.4329595 | O14: 1.1521975 | P14: 1 | Q14: 2506.2975 | R14: 0.94171692 | S14: 1.4329595 | T14: 1.1521975 | U14: 22865.424 | V14: 1.2897887 | W14: 1 | Y14: 13849 | Z14: 0.77625063 | AA14: 1 | AB14: 13849 | AC14: 0.77625063 | AN14: =$AG$32*F14 -> 0.50964316 | AO14: =$AH$32*L14 -> 0.092674743 | AP14: =$AI$32*R14 -> 0.1224232 | AQ14: =$AJ$32*V14 -> 0.11608099 | AR14: =$AK$32*Z14 -> 0.093150076 | AS14: =$AL$32*AF14 -> 0 | AT14: =$AM$32*AC14 -> 0.27945023 | AU14: =AN14+AO14+AP14+AQ14+AT14+AR14+AS14 -> 1.2134224
A15: 10 | B15: Красночетайский | C15: 13568 | D15: 1.3872392 | E15: 18822.062 | F15: 3.4679875 | G15: 887 | H15: 1.4242838 | I15: 1.1227667 | J15: 1 | K15: 1418.4357 | L15: 0.7906862 | M15: 1431 | N15: 1.4242838 | O15: 1.1227667 | P15: 1 | Q15: 2288.367 | R15: 0.87763917 | S15: 1.4242838 | T15: 1.1227667 | U15: 21697.109 | V15: 1.2492339 | W15: 1 | Y15: 13568 | Z15: 0.77625063 | AA15: 1 | AB15: 13568 | AC15: 0.77625063 | AN15: =$AG$32*F15 -> 0.52019812 | AO15: =$AH$32*L15 -> 0.071161758 | AP15: =$AI$32*R15 -> 0.11409309 | AQ15: =$AJ$32*V15 -> 0.11243105 | AR15: =$AK$32*Z15 -> 0.093150076 | AS15: =$AL$32*AF15 -> 0 | AT15: =$AM$32*AC15 -> 0.27945023 | AU15: =AN15+AO15+AP15+AQ15+AT15+AR15+AS15 -> 1.1904843
A16: 11 | B16: Марпосадский | C16: 21562 | D16: 0.87292744 | E16: 18822.062 | F16: 2.182249 | G16: 1596 | H16: 1.2431082 | I16: 1.1480535 | J16: 1.0110945 | K16: 2303.0093 | L16: 0.80782444 | M16: 2414 | N16: 1.2431082 | O16: 1.1480535 | P16: 1.0110945 | Q16: 3483.3737 | R16: 0.84065382 | S16: 1.2431082 | T16: 1.1480535 | U16: 30772.31 | V16: 1.1148817 | W16: 1.0110945 | Y16: 21801.22 | Z16: 0.78486275 | AA16: 1.0110945 | AB16: 21801.22 | AC16: 0.78486275 | AN16: =$AG$32*F16 -> 0.32733736 | AO16: =$AH$32*L16 -> 0.072704199 | AP16: =$AI$32*R16 -> 0.109285 | AQ16: =$AJ$32*V16 -> 0.10033935 | AR16: =$AK$32*Z16 -> 0.09418353 | AS16: =$AL$32*AF16 -> 0 | AT16: =$AM$32*AC16 -> 0.28255059 | AU16: =AN16+AO16+AP16+AQ16+AT16+AR16+AS16 -> 0.98640002
A17: 12 | B17: Моргаушский | C17: 32107 | D17: 0.58622922 | E17: 18822.062 | F17: 1.4655263 | G17: 2411 | H17: 1.4408908 | I17: 1.1740884 | J17: 1 | K17: 4078.7686 | L17: 0.96081479 | M17: 3840 | N17: 1.4408908 | O17: 1.1740884 | P17: 1 | Q17: 6496.2553 | R17: 1.0528573 | S17: 1.4408908 | T17: 1.1740884 | U17: 54316.476 | V17: 1.3215682 | W17: 1 | Y17: 32107 | Z17: 0.77625063 | AA17: 1 | AB17: 32107 | AC17: 0.77625063 | AN17: =$AG$32*F17 -> 0.21982895 | AO17: =$AH$32*L17 -> 0.086473331 | AP17: =$AI$32*R17 -> 0.13687145 | AQ17: =$AJ$32*V17 -> 0.11894114 | AR17: =$AK$32*Z17 -> 0.093150076 | AS17: =$AL$32*AF17 -> 0 | AT17: =$AM$32*AC17 -> 0.27945023 | AU17: =AN17+AO17+AP17+AQ17+AT17+AR17+AS17 -> 0.93471518
... A26: 21 | B26: Янтиковский | C26: 14069 | D26: 1.3378393 | E26: 18822.062 | F26: 3.3444917 | G26: 1008 | H26: 1.1815546 | I26: 1.1211103 | J26: 1 | K26: 1335.2503 | L26: 0.71781046 | M26: 1665 | N26: 1.1815546 | O26: 1.1211103 | P26: 1 | Q26: 2205.5473 | R26: 0.81575419 | S26: 1.1815546 | T26: 1.1211103 | U26: 18636.543 | V26: 1.0348082 | W26: 1 | Y26: 14069 | Z26: 0.77625063 | AA26: 1 | AB26: 14069 | AC26: 0.77625063 | AN26: =$AG$32*F26 -> 0.50167376 | AO26: =$AH$32*L26 -> 0.064602941 | AP26: =$AI$32*R26 -> 0.10604804 | AQ26: =$AJ$32*V26 -> 0.093132739 | AR26: =$AK$32*Z26 -> 0.093150076 | AS26: =$AL$32*AF26 -> 0 | AT26: =$AM$32*AC26 -> 0.27945023 | AU26: =AN26+AO26+AP26+AQ26+AT26+AR26+AS26 -> 1.1380578
A27: 22 | B27: г. Алатырь | C27: 34176 | D27: 0.55073916 | E27: 18822.062 | F27: 1.376804 | G27: 2193 | H27: 1 | I27: 1.2934939 | J27: 1.0443469 | K27: 2962.4279 | L27: 0.65559691 | M27: 3466 | N27: 1 | O27: 1.2934939 | P27: 1.0443469 | Q27: 4682.068 | R27: 0.71289021 | S27: 1 | T27: 1.2934939 | U27: 44206.448 | V27: 1.010467 | W27: 1.0443469 | Y27: 35691.598 | Z27: 0.81067491 | AA27: 1.0443469 | AB27: 35691.598 | AC27: 0.81067491 | AD27: 2.4110158 | AE27: 82398.877 | AF27: 3.4110158 | AN27: =$AG$32*F27 -> 0.2065206 | AO27: =$AH$32*L27 -> 0.059003722 | AP27: =$AI$32*R27 -> 0.092675728 | AQ27: =$AJ$32*V27 -> 0.090942027 | AR27: =$AK$32*Z27 -> 0.09728099 | AS27: =$AL$32*AF27 -> 0.20466095 | AT27: =$AM$32*AC27 -> 0.29184297 | AU27: =AN27+AO27+AP27+AQ27+AT27+AR27+AS27 -> 1.042927
A28: 23 | B28: г. Канаш | C28: 45222 | D28: 0.41621471 | E28: 18822.062 | F28: 1.0405036 | G28: 4039 | H28: 1 | I28: 1.2249681 | J28: 1.0586802 | K28: 5237.9748 | L28: 0.87604009 | M28: 6724 | N28: 1 | O28: 1.2249681 | P28: 1.0586802 | Q28: 8720.0156 | R28: 1.003399 | S28: 1 | T28: 1.2249681 | U28: 55395.506 | V28: 0.95693513 | W28: 1.0586802 | Y28: 47875.635 | Z28: 0.82180116 | AA28: 1.0586802 | AB28: 47875.635 | AC28: 0.82180116 | AD28: 0.81795383 | AE28: 36989.508 | AF28: 1.8179538 | AN28: =$AG$32*F28 -> 0.15607554 | AO28: =$AH$32*L28 -> 0.078843608 | AP28: =$AI$32*R28 -> 0.13044187 | AQ28: =$AJ$32*V28 -> 0.086124162 | AR28: =$AK$32*Z28 -> 0.098616139 | AS28: =$AL$32*AF28 -> 0.10907723 | AT28: =$AM$32*AC28 -> 0.29584842 | AU28: =AN28+AO28+AP28+AQ28+AT28+AR28+AS28 -> 0.95502697
A29: 24 | B29: г. Новочебоксарск | C29: 127099 | D29: 0.14808977 | E29: 18822.062 | F29: 0.37021262 | G29: 8461 | H29: 1 | I29: 1.1 | J29: 1.1645282 | K29: 10838.381 | L29: 0.64495974 | M29: 16147 | N29: 1 | O29: 1.1 | P29: 1.1645282 | Q29: 20684.001 | R29: 0.84683457 | S29: 1 | T29: 1.1 | U29: 139808.9 | V29: 0.85931108 | W29: 1.1645282 | Y29: 148010.37 | Z29: 0.90396576 | AA29: 1.1645282 | AB29: 148010.37 | AC29: 0.90396576 | AD29: 0.79546477 | AE29: 101102.78 | AF29: 1.7954648 | AN29: =$AG$32*F29 -> 0.055531893 | AO29: =$AH$32*L29 -> 0.058046376 | AP29: =$AI$32*R29 -> 0.11008849 | AQ29: =$AJ$32*V29 -> 0.077337997 | AR29: =$AK$32*Z29 -> 0.10847589 | AS29: =$AL$32*AF29 -> 0.10772789 | AT29: =$AM$32*AC29 -> 0.32542768 | AU29: =AN29+AO29+AP29+AQ29+AT29+AR29+AS29 -> 0.84263621
A30: 25 | B30: г. Шумерля | C30: 28647 | D30: 0.6570343 | E30: 18822.062 | F30: 1.6425334 | G30: 2030 | H30: 1 | I30: 1.19 | J30: 1.0371724 | K30: 2505.4974 | L30: 0.66149284 | M30: 3532 | N30: 1 | O30: 1.19 | P30: 1.0371724 | Q30: 4359.3187 | R30: 0.79185495 | S30: 1 | T30: 1.19 | U30: 34089.93 | V30: 0.92961835 | W30: 1.0371724 | Y30: 29711.878 | Z30: 0.80510575 | AA30: 1.0371724 | AB30: 29711.878 | AC30: 0.80510575 | AD30: 0.91646877 | AE30: 26254.081 | AF30: 1.9164688 | AN30: =$AG$32*F30 -> 0.24638001 | AO30: =$AH$32*L30 -> 0.059534356 | AP30: =$AI$32*R30 -> 0.10294114 | AQ30: =$AJ$32*V30 -> 0.083665652 | AR30: =$AK$32*Z30 -> 0.09661269 | AS30: =$AL$32*AF30 -> 0.11498813 | AT30: =$AM$32*AC30 -> 0.28983807 | AU30: =AN30+AO30+AP30+AQ30+AT30+AR30+AS30 -> 0.99396004
A31: 26 | B31: г. Чебоксары | C31: 505800 | D31: 0.037212459 | E31: 18822.062 | F31: 0.093028181 | G31: 45161 | H31: 1 | I31: 1.1930015 | J31: 1.6427246 | K31: 88505.306 | L31: 1.3234295 | M31: 59322 | N31: 1 | O31: 1.1930015 | P31: 1.6427246 | Q31: 116257.65 | R31: 1.1960488 | S31: 1 | T31: 1.1930015 | U31: 603420.17 | V31: 0.93196311 | W31: 1.6427246 | Y31: 830890.1 | Z31: 1.275166 | AA31: 1.6427246 | AB31: 830890.1 | AC31: 1.275166 | AD31: 0.97706358 | AE31: 494198.76 | AF31: 1.9770636 | AN31: =$AG$32*F31 -> 0.013954227 | AO31: =$AH$32*L31 -> 0.11910866 | AP31: =$AI$32*R31 -> 0.15548634 | AQ31: =$AJ$32*V31 -> 0.08387668 | AR31: =$AK$32*Z31 -> 0.15301992 | AS31: =$AL$32*AF31 -> 0.11862381 | AT31: =$AM$32*AC31 -> 0.45905976 | AU31: =AN31+AO31+AP31+AQ31+AT31+AR31+AS31 -> 1.1031294
B32: ВСЕГО | C32: 1223395 | D32: 0.015385106 | E32: 489373.6 | F32: 1 | G32: 98011 | H32: 1 | I32: 1 | J32: 2 | K32: 161754.5 | L32: 1 | M32: 145382 | N32: 1 | O32: 1 | P32: 2 | Q32: 235104.28 | R32: 1 | S32: 1 | T32: 1 | U32: 1566062.1 | V32: 1 | W32: 2 | Y32: 1576030.9 | Z32: 1 | AA32: 2 | AB32: 1576030.9 | AC32: 1 | AD32: 2 | AE32: 740944 | AF32: 1 | AG32: 0.15 | AH32: 0.09 | AI32: 0.13 | AJ32: 0.09 | AK32: 0.12 | AL32: 0.06 | AM32: =1-AG32-AH32-AI32-AJ32-AK32-AL32 -> 0.36 | AN32: =$AG$32*F32 -> 0.15 | AO32: =$AH$32*L32 -> 0.09 | AP32: =$AI$32*R32 -> 0.13 | AQ32: =$AJ$32*V32 -> 0.09 | AR32: =$AK$32*Z32 -> 0.12 | AS32: =$AL$32*AF32 -> 0.06 | AT32: =$AM$32*AC32 -> 0.36 | AU32: =AN32+AO32+AP32+AQ32+AT32+AR32+AS32 -> 1
B33: по городским округам | C33: 740944

Sheet ИБР 2022
C1: Расчет индекса бюджетных расходов (ИБР) на 2022 год
A3: № п/п | B3: Муниципальные районы городские округа | C3: Численность населения на 01.01.2019 Пj | D3: Коэффициент масштаба, Км | E3: SUMj(ПijxKnij) | F3: ИБР омсу | G3: Дети в возрасте от 1-6 лет | H3: Коэффициент дисперсности расселения, Кдисп | I3: Коэффициент стоимости предоставления коммунальных услуг, Кку | J3: Коэффициент уровня урбанизации, Курб | K3: SUMj(ПijxKnij) | L3: ИБРдоу | M3: Дети в возрасте от 7 до 17 лет | N3: Коэффициент дисперсности расселения, Кдисп | O3: Коэффициент стоимости предоставления коммунальных услуг, Кку | P3: Коэффициент уровня урбанизации, Курб | Q3: SUMj(ПijxKnij) | R3: ИБРобраз | S3: Коэффициент дисперсности расселения, Кдисп | T3: Коэффициент стоимости предоставления коммунальных услуг, Кку | U3: SUMj(ПijxKnij) | V3: ИБРкульт | W3: Коэффициент уровня урбанизации, Курб | X3: Коэффициент протяженности дорог, Кдорог | Y3: SUMj(ПijxKnij) | Z3: ИБРдор | AA3: Коэффициент уровня урбанизации, Курб | AB3: SUMj(ПijxKnij) | AC3: ИБР иные | AD3: Коэффициент благоустройства, Кблаг | AE3: SUMj(ПijxKnij) | AF3: ИБР благоустр | AG3: Доля вида расходов | AN3: Доля ИБР | AU3: ИБР SUM (аi х ИБРij)
AG4: ОМСУ (а1) | AH4: ДОУ (а2) | AI4: Образ (а3) | AJ4: Культура (а4) | AK4: Дорож деят (а5) | AL4: Благоустр (а6) | AM4: Иные (а7) | AN4: (а1 х ИБР омсу) | AO4: (а2 х ИБРдоу | AP4: (а3 х ИБРобраз | AQ4: (а4 х ИБРкульт | AR4: (а5 х ИБРдор | AS4: (а6 х ИБР благоустр | AT4: (а7 х ИБР иные
A5: 1 | B5: 2 | C5: 3 | D5: 4 | E5: 5=гр.3хгр.4 | F5: 6=(гр.5/SUMгр.5)/(гр.3/SUMгр.3) | G5: 7 | H5: 9 | I5: 10 | J5: 11 | K5: 12=гр.7*гр.8*гр.9*гр.10*гр.11 | L5: 13=(гр.12/SUMгр.12)/(гр.3/SUMгр.3) | M5: 14 | N5: 16 | O5: 17 | P5: 18 | Q5: 19=гр14*гр.15*гр.16*гр.17*гр.18 | R5: 20=(гр.19/SUMгр.19)/(гр.3/SUMгр.3) | S5: 21 | T5: 22 | U5: 23=гр.3*гр.21*гр.22 | V5: 24=(гр.23/SUMгр.23)/(гр.3/SUMгр.3) | W5: 25 | X5: 26 | Y5: 27=гр.3*гр.25 | Z5: 24=(гр.27/SUMгр.27)/(гр.3/SUMгр.3) | AA5: 29 | AB5: 30=гр.3*гр.29 | AC5: 31=(гр.30/SUMгр.30)/(гр.3/SUMгр.3) | AD5: 32 | AE5: 33 | AF5: 34=(гр.33/SUMгр.33)/(гр.3/SUMгр.3) | AG5: 32 | AH5: 33 | AI5: 34 | AJ5: 35 | AK5: 36 | AL5: 37 | AM5: 38 | AN5: 39 | AO5: 40 | AP5: 41 | AQ5: 42 | AR5: 43 | AS5: 44 | AT5: 45 | AU5: 46=гр.39+гр.40+гр.41+гр.42+гр.43+гр.44+гр.45
A6: 1 | B6: Алатырский | C6: 14216 | D6: 1.3240055 | E6: 18822.062 | F6: 3.3099081 | G6: 1015 | H6: 1.0191799 | I6: 1.1513901 | J6: 1 | K6: 1191.0758 | L6: 0.63368339 | M6: 1432 | N6: 1.0191799 | O6: 1.1513901 | P6: 1 | Q6: 1680.4143 | R6: 0.61509915 | S6: 1.0191799 | T6: 1.1513901 | U6: 16682.102 | V6: 0.91670814 | W6: 1 | Y6: 14216 | Z6: 0.77625063 | AA6: 1 | AB6: 14216 | AC6: 0.77625063 | AN6: =$AG$32*F6 -> 0.49648622 | AO6: =$AH$32*L6 -> 0.057031506 | AP6: =$AI$32*R6 -> 0.07996289 | AQ6: =$AJ$32*V6 -> 0.082503732 | AR6: =$AK$32*Z6 -> 0.093150076 | AS6: =$AL$32*AF6 -> 0 | AT6: =$AM$32*AC6 -> 0.27945023 | AU6: =AN6+AO6+AP6+AQ6+AT6+AR6+AS6 -> 1.0885846
A7: 2 | B7: Аликовский | C7: 15173 | D7: 1.240497 | E7: 18822.062 | F7: 3.1011437 | G7: 1265 | H7: 1.5482138 | I7: 1.1176507 | J7: 1 | K7: 2188.9082 | L7: 1.0911047 | M7: 1803 | N7: 1.5482138 | O7: 1.1176507 | P7: 1 | Q7: 3119.8431 | R7: 1.0699598 | S7: 1.5482138 | T7: 1.1176507 | U7: 26254.786 | V7: 1.3517449 | W7: 1 | Y7: 15173 | Z7: 0.77625063 | AA7: 1 | AB7: 15173 | AC7: 0.77625063 | AN7: =$AG$32*F7 -> 0.46517156 | AO7: =$AH$32*L7 -> 0.098199425 | AP7: =$AI$32*R7 -> 0.13909477 | AQ7: =$AJ$32*V7 -> 0.12165704 | AR7: =$AK$32*Z7 -> 0.093150076 | AS7: =$AL$32*AF7 -> 0 | AT7: =$AM$32*AC7 -> 0.27945023 | AU7: =AN7+AO7+AP7+AQ7+AT7+AR7+AS7 -> 1.1967231
A8: 3 | B8: Батыревский | C8: 33419 | D8: 0.56321439 | E8: 18822.062 | F8: 1.4079911 | G8: 2839 | H8: 1.0658323 | I8: 1.16 | J8: 1 | K8: 3510.0416 | L8: 0.79438157 | M8: 4306 | N8: 1.0658323 | O8: 1.16 | P8: 1 | Q8: 5323.7898 | R8: 0.82896008 | S8: 1.0658323 | T8: 1.16 | U8: 41318.099 | V8: 0.9658387 | W8: 1 | Y8: 33419 | Z8: 0.77625063 | AA8: 1 | AB8: 33419 | AC8: 0.77625063 | AN8: =$AG$32*F8 -> 0.21119866 | AO8: =$AH$32*L8 -> 0.071494341 | AP8: =$AI$32*R8 -> 0.10776481 | AQ8: =$AJ$32*V8 -> 0.086925483 | AR8: =$AK$32*Z8 -> 0.093150076 | AS8: =$AL$32*AF8 -> 0 | AT8: =$AM$32*AC8 -> 0.27945023 | AU8: =AN8+AO8+AP8+AQ8+AT8+AR8+AS8 -> 0.8499836
A9: 4 | B9: Вурнарский | C9: 31105 | D9: 0.6051137 | E9: 18822.062 | F9: 1.512736 | G9: 2498 | H9: 1.3003801 | I9: 1.1378441 | J9: 1 | K9: 3696.1153 | L9: 0.89872256 | M9: 4099 | N9: 1.3003801 | O9: 1.1378441 | P9: 1 | Q9: 6065.0026 | R9: 1.0146283 | S9: 1.3003801 | T9: 1.1378441 | U9: 46023.886 | V9: 1.1558748 | W9: 1 | Y9: 31105 | Z9: 0.77625063 | AA9: 1 | AB9: 31105 | AC9: 0.77625063 | AN9: =$AG$32*F9 -> 0.2269104 | AO9: =$AH$32*L9 -> 0.080885031 | AP9: =$AI$32*R9 -> 0.13190167 | AQ9: =$AJ$32*V9 -> 0.10402873 | AR9: =$AK$32*Z9 -> 0.093150076 | AS9: =$AL$32*AF9 -> 0 | AT9: =$AM$32*AC9 -> 0.27945023 | AU9: =AN9+AO9+AP9+AQ9+AT9+AR9+AS9 -> 0.91632614
A10: 5 | B10: Ибресинский | C10: 22893 | D10: 0.8221754 | E10: 18822.062 | F10: 2.055373 | G10: 1771 | H10: 1.0955683 | I10: 1.1732582 | J10: 1 | K10: 2276.4158 | L10: 0.75207167 | M10: 2917 | N10: 1.0955683 | O10: 1.1732582 | P10: 1 | Q10: 3749.4664 | R10: 0.85226161 | S10: 1.0955683 | T10: 1.1732582 | U10: 29426.306 | V10: 1.0041319 | W10: 1 | Y10: 22893 | Z10: 0.77625063 | AA10: 1 | AB10: 22893 | AC10: 0.77625063 | AN10: =$AG$32*F10 -> 0.30830595 | AO10: =$AH$32*L10 -> 0.06768645 | AP10: =$AI$32*R10 -> 0.11079401 | AQ10: =$AJ$32*V10 -> 0.090371871 | AR10: =$AK$32*Z10 -> 0.093150076 | AS10: =$AL$32*AF10 -> 0 | AT10: =$AM$32*AC10 -> 0.27945023 | AU10: =AN10+AO10+AP10+AQ10+AT10+AR10+AS10 -> 0.94975858
A11: 6 | B11: Канашский | C11: 34528 | D11: 0.54512458 | E11: 18822.062 | F11: 1.362768 | G11: 2763 | H11: 1.2385148 | I11: 1.1557586 | J11: 1 | K11: 3955.0249 | L11: 0.86633955 | M11: 4022 | N11: 1.2385148 | O11: 1.1557586 | P11: 1 | Q11: 5757.1879 | R11: 0.86765115 | S11: 1.2385148 | T11: 1.1557586 | U11: 49424.213 | V11: 1.1182169 | W11: 1 | Y11: 34528 | Z11: 0.77625063 | AA11: 1 | AB11: 34528 | AC11: 0.77625063 | AN11: =$AG$32*F11 -> 0.2044152 | AO11: =$AH$32*L11 -> 0.077970559 | AP11: =$AI$32*R11 -> 0.11279465 | AQ11: =$AJ$32*V11 -> 0.10063952 | AR11: =$AK$32*Z11 -> 0.093150076 | AS11: =$AL$32*AF11 -> 0 | AT11: =$AM$32*AC11 -> 0.27945023 | AU11: =AN11+AO11+AP11+AQ11+AT11+AR11+AS11 -> 0.86842024
A12: 7 | B12: Козловский | C12: 18445 | D12: 1.0204425 | E12: 18822.062 | F12: 2.5510249 | G12: 1069 | H12: 1.2126672 | I12: 1.1570181 | J12: 1.0112632 | K12: 1516.7839 | L12: 0.62194988 | M12: 2003 | N12: 1.2126672 | O12: 1.1570181 | P12: 1.0112632 | Q12: 2842.0188 | R12: 0.80177859 | S12: 1.2126672 | T12: 1.1570181 | U12: 25879.773 | V12: 1.0960731 | W12: 1.0112632 | Y12: 18652.75 | Z12: 0.78499369 | AA12: 1.0112632 | AB12: 18652.75 | AC12: 0.78499369 | AN12: =$AG$32*F12 -> 0.38265373 | AO12: =$AH$32*L12 -> 0.055975489 | AP12: =$AI$32*R12 -> 0.10423122 | AQ12: =$AJ$32*V12 -> 0.098646581 | AR12: =$AK$32*Z12 -> 0.094199243 | AS12: =$AL$32*AF12 -> 0 | AT12: =$AM$32*AC12 -> 0.28259773 | AU12: =AN12+AO12+AP12+AQ12+AT12+AR12+AS12 -> 1.018304
A13: 8 | B13: Комсомольский | C13: 24567 | D13: 0.76615222 | E13: 18822.062 | F13: 1.9153195 | G13: 1907 | H13: 1.1876243 | I13: 1.1235613 | J13: 1 | K13: 2544.6409 | L13: 0.78340208 | M13: 3109 | N13: 1.1876243 | O13: 1.1235613 | P13: 1 | Q13: 4148.552 | R13: 0.87872013 | S13: 1.1876243 | T13: 1.1235613 | U13: 32781.433 | V13: 1.0423979 | W13: 1 | Y13: 24567 | Z13: 0.77625063 | AA13: 1 | AB13: 24567 | AC13: 0.77625063 | AN13: =$AG$32*F13 -> 0.28729792 | AO13: =$AH$32*L13 -> 0.070506187 | AP13: =$AI$32*R13 -> 0.11423362 | AQ13: =$AJ$32*V13 -> 0.093815814 | AR13: =$AK$32*Z13 -> 0.093150076 | AS13: =$AL$32*AF13 -> 0 | AT13: =$AM$32*AC13 -> 0.27945023 | AU13: =AN13+AO13+AP13+AQ13+AT13+AR13+AS13 -> 0.93845384
A14: 9 | B14: Красноармейский | C14: 13849 | D14: 1.3590917 | E14: 18822.062 | F14: 3.397621 | G14: 1142 | H14: 1.4329595 | I14: 1.1521975 | J14: 1 | K14: 1885.5018 | L14: 1.0297194 | M14: 1518 | N14: 1.4329595 | O14: 1.1521975 | P14: 1 | Q14: 2506.2975 | R14: 0.94171692 | S14: 1.4329595 | T14: 1.1521975 | U14: 22865.424 | V14: 1.2897887 | W14: 1 | Y14: 13849 | Z14: 0.77625063 | AA14: 1 | AB14: 13849 | AC14: 0.77625063 | AN14: =$AG$32*F14 -> 0.50964316 | AO14: =$AH$32*L14 -> 0.092674743 | AP14: =$AI$32*R14 -> 0.1224232 | AQ14: =$AJ$32*V14 -> 0.11608099 | AR14: =$AK$32*Z14 -> 0.093150076 | AS14: =$AL$32*AF14 -> 0 | AT14: =$AM$32*AC14 -> 0.27945023 | AU14: =AN14+AO14+AP14+AQ14+AT14+AR14+AS14 -> 1.2134224
A15: 10 | B15: Красночетайский | C15: 13568 | D15: 1.3872392 | E15: 18822.062 | F15: 3.4679875 | G15: 887 | H15: 1.4242838 | I15: 1.1227667 | J15: 1 | K15: 1418.4357 | L15: 0.7906862 | M15: 1431 | N15: 1.4242838 | O15: 1.1227667 | P15: 1 | Q15: 2288.367 | R15: 0.87763917 | S15: 1.4242838 | T15: 1.1227667 | U15: 21697.109 | V15: 1.2492339 | W15: 1 | Y15: 13568 | Z15: 0.77625063 | AA15: 1 | AB15: 13568 | AC15: 0.77625063 | AN15: =$AG$32*F15 -> 0.52019812 | AO15: =$AH$32*L15 -> 0.071161758 | AP15: =$AI$32*R15 -> 0.11409309 | AQ15: =$AJ$32*V15 -> 0.11243105 | AR15: =$AK$32*Z15 -> 0.093150076 | AS15: =$AL$32*AF15 -> 0 | AT15: =$AM$32*AC15 -> 0.27945023 | AU15: =AN15+AO15+AP15+AQ15+AT15+AR15+AS15 -> 1.1904843
A16: 11 | B16: Марпосадский | C16: 21562 | D16: 0.87292744 | E16: 18822.062 | F16: 2.182249 | G16: 1596 | H16: 1.2431082 | I16: 1.1480535 | J16: 1.0110945 | K16: 2303.0093 | L16: 0.80782444 | M16: 2414 | N16: 1.2431082 | O16: 1.1480535 | P16: 1.0110945 | Q16: 3483.3737 | R16: 0.84065382 | S16: 1.2431082 | T16: 1.1480535 | U16: 30772.31 | V16: 1.1148817 | W16: 1.0110945 | Y16: 21801.22 | Z16: 0.78486275 | AA16: 1.0110945 | AB16: 21801.22 | AC16: 0.78486275 | AN16: =$AG$32*F16 -> 0.32733736 | AO16: =$AH$32*L16 -> 0.072704199 | AP16: =$AI$32*R16 -> 0.109285 | AQ16: =$AJ$32*V16 -> 0.10033935 | AR16: =$AK$32*Z16 -> 0.09418353 | AS16: =$AL$32*AF16 -> 0 | AT16: =$AM$32*AC16 -> 0.28255059 | AU16: =AN16+AO16+AP16+AQ16+AT16+AR16+AS16 -> 0.98640002
A17: 12 | B17: Моргаушский | C17: 32107 | D17: 0.58622922 | E17: 18822.062 | F17: 1.4655263 | G17: 2411 | H17: 1.4408908 | I17: 1.1740884 | J17: 1 | K17: 4078.7686 | L17: 0.96081479 | M17: 3840 | N17: 1.4408908 | O17: 1.1740884 | P17: 1 | Q17: 6496.2553 | R17: 1.0528573 | S17: 1.4408908 | T17: 1.1740884 | U17: 54316.476 | V17: 1.3215682 | W17: 1 | Y17: 32107 | Z17: 0.77625063 | AA17: 1 | AB17: 32107 | AC17: 0.77625063 | AN17: =$AG$32*F17 -> 0.21982895 | AO17: =$AH$32*L17 -> 0.086473331 | AP17: =$AI$32*R17 -> 0.13687145 | AQ17: =$AJ$32*V17 -> 0.11894114 | AR17: =$AK$32*Z17 -> 0.093150076 | AS17: =$AL$32*AF17 -> 0 | AT17: =$AM$32*AC17 -> 0.27945023 | AU17: =AN17+AO17+AP17+AQ17+AT17+AR17+AS17 -> 0.93471518
... A26: 21 | B26: Янтиковский | C26: 14069 | D26: 1.3378393 | E26: 18822.062 | F26: 3.3444917 | G26: 1008 | H26: 1.1815546 | I26: 1.1211103 | J26: 1 | K26: 1335.2503 | L26: 0.71781046 | M26: 1665 | N26: 1.1815546 | O26: 1.1211103 | P26: 1 | Q26: 2205.5473 | R26: 0.81575419 | S26: 1.1815546 | T26: 1.1211103 | U26: 18636.543 | V26: 1.0348082 | W26: 1 | Y26: 14069 | Z26: 0.77625063 | AA26: 1 | AB26: 14069 | AC26: 0.77625063 | AN26: =$AG$32*F26 -> 0.50167376 | AO26: =$AH$32*L26 -> 0.064602941 | AP26: =$AI$32*R26 -> 0.10604804 | AQ26: =$AJ$32*V26 -> 0.093132739 | AR26: =$AK$32*Z26 -> 0.093150076 | AS26: =$AL$32*AF26 -> 0 | AT26: =$AM$32*AC26 -> 0.27945023 | AU26: =AN26+AO26+AP26+AQ26+AT26+AR26+AS26 -> 1.1380578
A27: 22 | B27: г. Алатырь | C27: 34176 | D27: 0.55073916 | E27: 18822.062 | F27: 1.376804 | G27: 2193 | H27: 1 | I27: 1.2934939 | J27: 1.0443469 | K27: 2962.4279 | L27: 0.65559691 | M27: 3466 | N27: 1 | O27: 1.2934939 | P27: 1.0443469 | Q27: 4682.068 | R27: 0.71289021 | S27: 1 | T27: 1.2934939 | U27: 44206.448 | V27: 1.010467 | W27: 1.0443469 | Y27: 35691.598 | Z27: 0.81067491 | AA27: 1.0443469 | AB27: 35691.598 | AC27: 0.81067491 | AD27: 2.4110158 | AE27: 82398.877 | AF27: 3.4110158 | AN27: =$AG$32*F27 -> 0.2065206 | AO27: =$AH$32*L27 -> 0.059003722 | AP27: =$AI$32*R27 -> 0.092675728 | AQ27: =$AJ$32*V27 -> 0.090942027 | AR27: =$AK$32*Z27 -> 0.09728099 | AS27: =$AL$32*AF27 -> 0.20466095 | AT27: =$AM$32*AC27 -> 0.29184297 | AU27: =AN27+AO27+AP27+AQ27+AT27+AR27+AS27 -> 1.042927
A28: 23 | B28: г. Канаш | C28: 45222 | D28: 0.41621471 | E28: 18822.062 | F28: 1.0405036 | G28: 4039 | H28: 1 | I28: 1.2249681 | J28: 1.0586802 | K28: 5237.9748 | L28: 0.87604009 | M28: 6724 | N28: 1 | O28: 1.2249681 | P28: 1.0586802 | Q28: 8720.0156 | R28: 1.003399 | S28: 1 | T28: 1.2249681 | U28: 55395.506 | V28: 0.95693513 | W28: 1.0586802 | Y28: 47875.635 | Z28: 0.82180116 | AA28: 1.0586802 | AB28: 47875.635 | AC28: 0.82180116 | AD28: 0.81795383 | AE28: 36989.508 | AF28: 1.8179538 | AN28: =$AG$32*F28 -> 0.15607554 | AO28: =$AH$32*L28 -> 0.078843608 | AP28: =$AI$32*R28 -> 0.13044187 | AQ28: =$AJ$32*V28 -> 0.086124162 | AR28: =$AK$32*Z28 -> 0.098616139 | AS28: =$AL$32*AF28 -> 0.10907723 | AT28: =$AM$32*AC28 -> 0.29584842 | AU28: =AN28+AO28+AP28+AQ28+AT28+AR28+AS28 -> 0.95502697
A29: 24 | B29: г. Новочебоксарск | C29: 127099 | D29: 0.14808977 | E29: 18822.062 | F29: 0.37021262 | G29: 8461 | H29: 1 | I29: 1.1 | J29: 1.1645282 | K29: 10838.381 | L29: 0.64495974 | M29: 16147 | N29: 1 | O29: 1.1 | P29: 1.1645282 | Q29: 20684.001 | R29: 0.84683457 | S29: 1 | T29: 1.1 | U29: 139808.9 | V29: 0.85931108 | W29: 1.1645282 | Y29: 148010.37 | Z29: 0.90396576 | AA29: 1.1645282 | AB29: 148010.37 | AC29: 0.90396576 | AD29: 0.79546477 | AE29: 101102.78 | AF29: 1.7954648 | AN29: =$AG$32*F29 -> 0.055531893 | AO29: =$AH$32*L29 -> 0.058046376 | AP29: =$AI$32*R29 -> 0.11008849 | AQ29: =$AJ$32*V29 -> 0.077337997 | AR29: =$AK$32*Z29 -> 0.10847589 | AS29: =$AL$32*AF29 -> 0.10772789 | AT29: =$AM$32*AC29 -> 0.32542768 | AU29: =AN29+AO29+AP29+AQ29+AT29+AR29+AS29 -> 0.84263621
A30: 25 | B30: г. Шумерля | C30: 28647 | D30: 0.6570343 | E30: 18822.062 | F30: 1.6425334 | G30: 2030 | H30: 1 | I30: 1.19 | J30: 1.0371724 | K30: 2505.4974 | L30: 0.66149284 | M30: 3532 | N30: 1 | O30: 1.19 | P30: 1.0371724 | Q30: 4359.3187 | R30: 0.79185495 | S30: 1 | T30: 1.19 | U30: 34089.93 | V30: 0.92961835 | W30: 1.0371724 | Y30: 29711.878 | Z30: 0.80510575 | AA30: 1.0371724 | AB30: 29711.878 | AC30: 0.80510575 | AD30: 0.91646877 | AE30: 26254.081 | AF30: 1.9164688 | AN30: =$AG$32*F30 -> 0.24638001 | AO30: =$AH$32*L30 -> 0.059534356 | AP30: =$AI$32*R30 -> 0.10294114 | AQ30: =$AJ$32*V30 -> 0.083665652 | AR30: =$AK$32*Z30 -> 0.09661269 | AS30: =$AL$32*AF30 -> 0.11498813 | AT30: =$AM$32*AC30 -> 0.28983807 | AU30: =AN30+AO30+AP30+AQ30+AT30+AR30+AS30 -> 0.99396004
A31: 26 | B31: г. Чебоксары | C31: 505800 | D31: 0.037212459 | E31: 18822.062 | F31: 0.093028181 | G31: 45161 | H31: 1 | I31: 1.1930015 | J31: 1.6427246 | K31: 88505.306 | L31: 1.3234295 | M31: 59322 | N31: 1 | O31: 1.1930015 | P31: 1.6427246 | Q31: 116257.65 | R31: 1.1960488 | S31: 1 | T31: 1.1930015 | U31: 603420.17 | V31: 0.93196311 | W31: 1.6427246 | Y31: 830890.1 | Z31: 1.275166 | AA31: 1.6427246 | AB31: 830890.1 | AC31: 1.275166 | AD31: 0.97706358 | AE31: 494198.76 | AF31: 1.9770636 | AN31: =$AG$32*F31 -> 0.013954227 | AO31: =$AH$32*L31 -> 0.11910866 | AP31: =$AI$32*R31 -> 0.15548634 | AQ31: =$AJ$32*V31 -> 0.08387668 | AR31: =$AK$32*Z31 -> 0.15301992 | AS31: =$AL$32*AF31 -> 0.11862381 | AT31: =$AM$32*AC31 -> 0.45905976 | AU31: =AN31+AO31+AP31+AQ31+AT31+AR31+AS31 -> 1.1031294
B32: ВСЕГО | C32: 1223395 | D32: 0.015385106 | E32: 489373.6 | F32: 1 | G32: 98011 | H32: 1 | I32: 1 | J32: 2 | K32: 161754.5 | L32: 1 | M32: 145382 | N32: 1 | O32: 1 | P32: 2 | Q32: 235104.28 | R32: 1 | S32: 1 | T32: 1 | U32: 1566062.1 | V32: 1 | W32: 2 | Y32: 1576030.9 | Z32: 1 | AA32: 2 | AB32: 1576030.9 | AC32: 1 | AD32: 2 | AE32: 740944 | AF32: 1 | AG32: 0.15 | AH32: 0.09 | AI32: 0.13 | AJ32: 0.09 | AK32: 0.12 | AL32: 0.06 | AM32: =1-AG32-AH32-AI32-AJ32-AK32-AL32 -> 0.36 | AN32: =$AG$32*F32 -> 0.15 | AO32: =$AH$32*L32 -> 0.09 | AP32: =$AI$32*R32 -> 0.13 | AQ32: =$AJ$32*V32 -> 0.09 | AR32: =$AK$32*Z32 -> 0.12 | AS32: =$AL$32*AF32 -> 0.06 | AT32: =$AM$32*AC32 -> 0.36 | AU32: =AN32+AO32+AP32+AQ32+AT32+AR32+AS32 -> 1
B33: по городским округам | C33: 740944

Sheet ИНП 2020
J1: Расчет индекса налогового потенциала (ИНП) на 2020 год
C2: Средняя репрезентативная налоговая ставка
H3: № п/п | I3: Муниципальные районы городские округа | J3: Численность населения на 01.01.2019 | K3: ФОТ, данные Чувашстата за 2018 год, тыс. рублей НБij | L3: Прогноз НДФЛ, по субъекту, тыс. рублей Пдi | M3: Средняя ставка РСi | N3: НПндфл 15% ставка | O3: Базовая доходность (данные отчета ГНИ за 2018 год) | P3: Прогноз ЕНВД по субъекту, тыс. рублей | Q3: Средняя ставка РСi | R3: НПенвд | S3: Оценка | T3: Нпгосп | U3: Оценка | V3: Накциз | W3: НПj | X3: ИНПj
A4: № п/п | B4: Репрезентативные налоговые доходы | C4: Оценка доходов в консолидированный бюджет ЧР | D4: Суммарная налоговая база | E4: Средняя репрезентативная налоговая ставка
H5: 1 | I5: 2 | J5: 3 | K5: 4 | L5: 5 | M5: 6=гр.5/SUMгр.4 | N5: 7=гр.4*гр.6*15% | O5: 8 | P5: 9 | Q5: 10=гр.9/SUMгр.8 | R5: 11=гр.8*гр.10 | S5: 13 | T5: 14=гр.13 | U5: 15 | V5: 16=гр.15 | W5: 25=гр.7+гр.11+гр.14+гр.16 | X5: 26=(гр.25/гр.3)/ (SUMгр.25/SUMгр.3)
A6: 1 | B6: НДФЛ | C6: 12793328 | D6: 71061495 | E6: =C6/D6 -> 0.18003179 | H6: 1 | I6: Алатырский | J6: 14216 | K6: 292301.4 | M6: =$L$32/$K$32 -> 0.18036598 | N6: =K6*M6*0.15 -> 7908.1844 | O6: 42502 | Q6: =$P$32/$O$32 -> 0.067383473 | R6: =O6*Q6 -> 2863.9324 | S6: 790.5673 | T6: =S6 -> 790.5673 | U6: 2950.602 | V6: =U6 -> 2950.602 | W6: =N6+R6+T6+V6 -> 14513.286 | X6: =(W6/J6)/($W$32/$J$32) -> 0.39865236
A7: 2 | B7: ЕНВД | C7: 736335 | D7: 8704404 | E7: =C7/D7 -> 0.084593385 | H7: 2 | I7: Аликовский | J7: 15173 | K7: 374507.3 | M7: =$L$32/$K$32 -> 0.18036598 | N7: =K7*M7*0.15 -> 10132.257 | O7: 65243 | Q7: =$P$32/$O$32 -> 0.067383473 | R7: =O7*Q7 -> 4396.2999 | S7: 1585.6955 | T7: =S7 -> 1585.6955 | U7: 5359.879 | V7: =U7 -> 5359.879 | W7: =N7+R7+T7+V7 -> 21474.131 | X7: =(W7/J7)/($W$32/$J$32) -> 0.55264996
A8: 3 | B8: ЕСХ | C8: 28690.5 | D8: 399937 | E8: =C8/D8 -> 0.071737549 | H8: 3 | I8: Батыревский | J8: 33419 | K8: 903251.7 | M8: =$L$32/$K$32 -> 0.18036598 | N8: =K8*M8*0.15 -> 24437.382 | O8: 198246 | Q8: =$P$32/$O$32 -> 0.067383473 | R8: =O8*Q8 -> 13358.504 | S8: 4079.9334 | T8: =S8 -> 4079.9334 | U8: 3092.9221 | V8: =U8 -> 3092.9221 | W8: =N8+R8+T8+V8 -> 44968.742 | X8: =(W8/J8)/($W$32/$J$32) -> 0.52544018
A9: 4 | B9: ЗН | C9: 707808.5 | D9: 141285941 | E9: =C9/D9 -> 0.0050097589 | H9: 4 | I9: Вурнарский | J9: 31105 | K9: 1592161.7 | M9: =$L$32/$K$32 -> 0.18036598 | N9: =K9*M9*0.15 -> 43075.771 | O9: 191370 | Q9: =$P$32/$O$32 -> 0.067383473 | R9: =O9*Q9 -> 12895.175 | S9: 3254.5756 | T9: =S9 -> 3254.5756 | U9: 4386.5108 | V9: =U9 -> 4386.5108 | W9: =N9+R9+T9+V9 -> 63612.033 | X9: =(W9/J9)/($W$32/$J$32) -> 0.79857382
A10: 5 | B10: НИФЛ | C10: 166334.8 | D10: 414965447 | E10: =C10/D10 -> 0.00040084012 | H10: 5 | I10: Ибресинский | J10: 22893 | K10: 601036.9 | M10: =$L$32/$K$32 -> 0.18036598 | N10: =K10*M10*0.15 -> 16260.992 | O10: 110917 | Q10: =$P$32/$O$32 -> 0.067383473 | R10: =O10*Q10 -> 7473.9727 | S10: 2221.2176 | T10: =S10 -> 2221.2176 | U10: 3291.1538 | V10: =U10 -> 3291.1538 | W10: =N10+R10+T10+V10 -> 29247.336 | X10: =(W10/J10)/($W$32/$J$32) -> 0.49887254
A11: 6 | B11: Госпошлина | C11: 287557.2 | H11: 6 | I11: Канашский | J11: 34528 | K11: 644228.8 | M11: =$L$32/$K$32 -> 0.18036598 | N11: =K11*M11*0.15 -> 17429.544 | O11: 91281 | Q11: =$P$32/$O$32 -> 0.067383473 | R11: =O11*Q11 -> 6150.8308 | S11: 1133.2562 | T11: =S11 -> 1133.2562 | U11: 4915.1285 | V11: =U11 -> 4915.1285 | W11: =N11+R11+T11+V11 -> 29628.76 | X11: =(W11/J11)/($W$32/$J$32) -> 0.33507964
H12: 7 | I12: Козловский | J12: 18445 | K12: 703088.5 | M12: =$L$32/$K$32 -> 0.18036598 | N12: =K12*M12*0.15 -> 19021.987 | O12: 107708 | Q12: =$P$32/$O$32 -> 0.067383473 | R12: =O12*Q12 -> 7257.7391 | S12: 2277.9327 | T12: =S12 -> 2277.9327 | U12: 3227.618 | V12: =U12 -> 3227.618 | W12: =N12+R12+T12+V12 -> 31785.277 | X12: =(W12/J12)/($W$32/$J$32) -> 0.67290436
H13: 8 | I13: Комсомольский | J13: 24567 | K13: 563239 | M13: =$L$32/$K$32 -> 0.18036598 | N13: =K13*M13*0.15 -> 15238.373 | O13: 180222 | Q13: =$P$32/$O$32 -> 0.067383473 | R13: =O13*Q13 -> 12143.984 | S13: 2247.3278 | T13: =S13 -> 2247.3278 | U13: 2759.9946 | V13: =U13 -> 2759.9946 | W13: =N13+R13+T13+V13 -> 32389.68 | X13: =(W13/J13)/($W$32/$J$32) -> 0.51482607
H14: 9 | I14: Красноармейский | J14: 13849 | K14: 740978.1 | M14: =$L$32/$K$32 -> 0.18036598 | N14: =K14*M14*0.15 -> 20047.086 | O14: 63247 | Q14: =$P$32/$O$32 -> 0.067383473 | R14: =O14*Q14 -> 4261.8025 | S14: 1420.3068 | T14: =S14 -> 1420.3068 | U14: 3847.7273 | V14: =U14 -> 3847.7273 | W14: =N14+R14+T14+V14 -> 29576.923 | X14: =(W14/J14)/($W$32/$J$32) -> 0.83395108
H15: 10 | I15: Красночетайский | J15: 13568 | K15: 354775.4 | M15: =$L$32/$K$32 -> 0.18036598 | N15: =K15*M15*0.15 -> 9598.412 | O15: 51574 | Q15: =$P$32/$O$32 -> 0.067383473 | R15: =O15*Q15 -> 3475.2352 | S15: 1353.6458 | T15: =S15 -> 1353.6458 | U15: 3606.2913 | V15: =U15 -> 3606.2913 | W15: =N15+R15+T15+V15 -> 18033.584 | X15: =(W15/J15)/($W$32/$J$32) -> 0.51900581
H16: 11 | I16: Марпосадский | J16: 21562 | K16: 564588.8 | M16: =$L$32/$K$32 -> 0.18036598 | N16: =K16*M16*0.15 -> 15274.892 | O16: 85985 | Q16: =$P$32/$O$32 -> 0.067383473 | R16: =O16*Q16 -> 5793.9679 | S16: 2637.1085 | T16: =S16 -> 2637.1085 | U16: 5131.1502 | V16: =U16 -> 5131.1502 | W16: =N16+R16+T16+V16 -> 28837.119 | X16: =(W16/J16)/($W$32/$J$32) -> 0.52223842
H17: 12 | I17: Моргаушский | J17: 32107 | K17: 1255084.8 | M17: =$L$32/$K$32 -> 0.18036598 | N17: =K17*M17*0.15 -> 33956.19 | O17: 159157 | Q17: =$P$32/$O$32 -> 0.067383473 | R17: =O17*Q17 -> 10724.551 | S17: 3163.7065 | T17: =S17 -> 3163.7065 | U17: 5337.0062 | V17: =U17 -> 5337.0062 | W17: =N17+R17+T17+V17 -> 53181.454 | X17: =(W17/J17)/($W$32/$J$32) -> 0.64679474
H18: 13 | I18: Порецкий | J18: 11903 | K18: 381023.7 | M18: =$L$32/$K$32 -> 0.18036598 | N18: =K18*M18*0.15 -> 10308.557 | O18: 52579 | Q18: =$P$32/$O$32 -> 0.067383473 | R18: =O18*Q18 -> 3542.9556 | S18: 1049.2659 | T18: =S18 -> 1049.2659 | U18: 2081.4324 | V18: =U18 -> 2081.4324 | W18: =N18+R18+T18+V18 -> 16982.211 | X18: =(W18/J18)/($W$32/$J$32) -> 0.55711365
H19: 14 | I19: Урмарский | J19: 22204 | K19: 515702.7 | M19: =$L$32/$K$32 -> 0.18036598 | N19: =K19*M19*0.15 -> 13952.284 | O19: 91798 | Q19: =$P$32/$O$32 -> 0.067383473 | R19: =O19*Q19 -> 6185.6681 | S19: 2371.93 | T19: =S19 -> 2371.93 | U19: 4165.4062 | V19: =U19 -> 4165.4062 | W19: =N19+R19+T19+V19 -> 26675.288 | X19: =(W19/J19)/($W$32/$J$32) -> 0.46911994
H20: 15 | I20: Цивильский | J20: 35375 | K20: 1862058.5 | M20: =$L$32/$K$32 -> 0.18036598 | N20: =K20*M20*0.15 -> 50377.802 | O20: 147544 | Q20: =$P$32/$O$32 -> 0.067383473 | R20: =O20*Q20 -> 9942.0271 | S20: 4063.8339 | T20: =S20 -> 4063.8339 | U20: 6526.3961 | V20: =U20 -> 6526.3961 | W20: =N20+R20+T20+V20 -> 70910.059 | X20: =(W20/J20)/($W$32/$J$32) -> 0.78273976
H21: 16 | I21: Чебоксарский | J21: 62039 | K21: 2528680.9 | M21: =$L$32/$K$32 -> 0.18036598 | N21: =K21*M21*0.15 -> 68413.202 | O21: 276558 | Q21: =$P$32/$O$32 -> 0.067383473 | R21: =O21*Q21 -> 18635.439 | S21: 6992.1419 | T21: =S21 -> 6992.1419 | U21: 7151.5883 | V21: =U21 -> 7151.5883 | W21: =N21+R21+T21+V21 -> 101192.37 | X21: =(W21/J21)/($W$32/$J$32) -> 0.636926
H22: 17 | I22: Шемуршинский | J22: 11969 | K22: 326959.5 | M22: =$L$32/$K$32 -> 0.18036598 | N22: =K22*M22*0.15 -> 8845.8557 | O22: 50397 | Q22: =$P$32/$O$32 -> 0.067383473 | R22: =O22*Q22 -> 3395.9249 | S22: 1008.7611 | T22: =S22 -> 1008.7611 | U22: 2935.3534 | V22: =U22 -> 2935.3534 | W22: =N22+R22+T22+V22 -> 16185.895 | X22: =(W22/J22)/($W$32/$J$32) -> 0.52806192
H23: 18 | I23: Шумерлинский | J23: 8495 | K23: 118487.5 | M23: =$L$32/$K$32 -> 0.18036598 | N23: =K23*M23*0.15 -> 3205.6671 | O23: 16730 | Q23: =$P$32/$O$32 -> 0.067383473 | R23: =O23*Q23 -> 1127.3255 | S23: 531.3535 | T23: =S23 -> 531.3535 | U23: 3222.5351 | V23: =U23 -> 3222.5351 | W23: =N23+R23+T23+V23 -> 8086.8813 | X23: =(W23/J23)/($W$32/$J$32) -> 0.37172664
... H28: 23 | I28: г. Канаш | J28: 45222 | K28: 3336099.2 | M28: =$L$32/$K$32 -> 0.18036598 | N28: =K28*M28*0.15 -> 90257.821 | O28: 478850 | Q28: =$P$32/$O$32 -> 0.067383473 | R28: =O28*Q28 -> 32266.576 | S28: 10004.533 | T28: =S28 -> 10004.533 | U28: 2292.3712 | V28: =U28 -> 2292.3712 | W28: =N28+R28+T28+V28 -> 134821.3 | X28: =(W28/J28)/($W$32/$J$32) -> 1.1641656
H29: 24 | I29: г. Новочебоксарск | J29: 127099 | K29: =7131328.4 -> 7131328.4 | M29: =$L$32/$K$32 -> 0.18036598 | N29: =K29*M29*0.15 -> 192937.36 | O29: 748438 | Q29: =$P$32/$O$32 -> 0.067383473 | R29: =O29*Q29 -> 50432.352 | S29: 21444.308 | T29: =S29 -> 21444.308 | U29: 5445 | V29: =U29 -> 5445 | W29: =N29+R29+T29+V29 -> 270259.02 | X29: =(W29/J29)/($W$32/$J$32) -> 0.83031725
H30: 25 | I30: г. Шумерля | J30: 28647 | K30: 2135784.3 | M30: =$L$32/$K$32 -> 0.18036598 | N30: =K30*M30*0.15 -> 57783.425 | O30: 206141 | Q30: =$P$32/$O$32 -> 0.067383473 | R30: =O30*Q30 -> 13890.497 | S30: 4813.2689 | T30: =S30 -> 4813.2689 | U30: 2421.9842 | V30: =U30 -> 2421.9842 | W30: =N30+R30+T30+V30 -> 78909.175 | X30: =(W30/J30)/($W$32/$J$32) -> 1.0756088
H31: 26 | I31: г. Чебоксары | J31: 505800 | K31: =50712014.7 -> 50712015 | M31: =$L$32/$K$32 -> 0.18036598 | N31: =K31*M31*0.15 -> 1372008.4 | O31: 4763915 | Q31: =$P$32/$O$32 -> 0.067383473 | R31: =O31*Q31 -> 321009.14 | S31: 120784.77 | T31: =S31 -> 120784.77 | U31: 8942.08 | V31: =U31 -> 8942.08 | W31: =N31+R31+T31+V31 -> 1822744.3 | X31: =(W31/J31)/($W$32/$J$32) -> 1.4071906
I32: ВСЕГО | J32: =SUM(J6:J31) -> 1223395 | K32: =SUM(K6:K31) -> 82104680 | L32: 14808891 | M32: =$L$32/$K$32 -> 0.18036598 | N32: =SUM(N6:N31) -> 2221333.7 | O32: =SUM(O6:O31) -> 8783311 | P32: 591850 | Q32: =$P$32/$O$32 -> 0.067383473 | R32: =SUM(R6:R31) -> 591850 | S32: =SUM(S6:S31) -> 210935.95 | T32: =SUM(T6:T31) -> 210935.95 | U32: =SUM(U6:U31) -> 108882.59 | V32: =SUM(V6:V31) -> 108882.59 | W32: =SUM(W6:W31) -> 3133002.2 | X32: =(W32/J32)/($W$32/$J$32) -> 1
B34: Начальник отдела межбюджетных отношений | F34: Н.И. Никифорова

Sheet ИНП 2021
J1: Расчет индекса налогового потенциала (ИНП) на 2021 год
C2: Средняя репрезентативная налоговая ставка
H3: № п/п | I3: Муниципальные районы городские округа | J3: Численность населения на 01.01.2019 | K3: ФОТ, данные Чувашстата за 2018 год, тыс. рублей НБij | L3: Прогноз НДФЛ, по субъекту, тыс. рублей | M3: Средняя ставка РСi | N3: НПндфл 15% ставка | O3: Базовая доходность (данные отчета ГНИ за 2018 год) | P3: Прогноз ЕНВД по субъекту, тыс. рублей | Q3: Средняя ставка РСi | R3: НПенвд | S3: Оценка | T3: Нпгосп | U3: Оценка | V3: Накциз | W3: НПj | X3: ИНПj
A4: № п/п | B4: Репрезентативные налоговые доходы | C4: Оценка доходов в консолидированный бюджет ЧР | D4: Суммарная налоговая база | E4: Средняя репрезентативная налоговая ставка
H5: 1 | I5: 2 | J5: 3 | K5: 4 | L5: 5 | M5: 6=гр.5/SUMгр.4 | N5: 7=гр.4*гр.6*15% | O5: 8 | P5: 9 | Q5: 10=гр.9/SUMгр.8 | R5: 11=гр.8*гр.10 | S5: 13 | T5: 14=гр.13 | U5: 15 | V5: 16=гр.15 | W5: 25=гр.7+гр.11+гр.14+гр.16 | X5: 26=(гр.25/гр.3)/ (SUMгр.25/SUMгр.3)
A6: 1 | B6: НДФЛ | C6: 12793328 | D6: 71061495 | E6: =C6/D6 -> 0.18003179 | H6: 1 | I6: Алатырский | J6: 14216 | K6: ='ИНП 2020'!K6 -> 292301.4 | M6: =$L$32/$K$32 -> 0.18740025 | N6: =K6*M6*0.15 -> 8216.6035 | O6: 38915 | Q6: =$P$32/$O$32 -> 0.015334881 | R6: =O6*Q6 -> 596.7569 | S6: 790.5673 | T6: =S6 -> 790.5673 | U6: 3088.8223 | V6: =U6 -> 3088.8223 | W6: =N6+R6+T6+V6 -> 12692.75 | X6: =(W6/J6)/($W$32/$J$32) -> 0.39485297
